BEGIN:VCALENDAR
VERSION:2.0
PRODID:-//Stern-Drewitz - ECPv6.15.20//NONSGML v1.0//EN
CALSCALE:GREGORIAN
METHOD:PUBLISH
X-WR-CALNAME:Stern-Drewitz
X-ORIGINAL-URL:https://stern-drewitz.de
X-WR-CALDESC:Veranstaltungen für Stern-Drewitz
REFRESH-INTERVAL;VALUE=DURATION:PT1H
X-Robots-Tag:noindex
X-PUBLISHED-TTL:PT1H
BEGIN:VTIMEZONE
TZID:Europe/Berlin
BEGIN:DAYLIGHT
TZOFFSETFROM:+0100
TZOFFSETTO:+0200
TZNAME:CEST
DTSTART:20230326T010000
END:DAYLIGHT
BEGIN:STANDARD
TZOFFSETFROM:+0200
TZOFFSETTO:+0100
TZNAME:CET
DTSTART:20231029T010000
END:STANDARD
BEGIN:DAYLIGHT
TZOFFSETFROM:+0100
TZOFFSETTO:+0200
TZNAME:CEST
DTSTART:20240331T010000
END:DAYLIGHT
BEGIN:STANDARD
TZOFFSETFROM:+0200
TZOFFSETTO:+0100
TZNAME:CET
DTSTART:20241027T010000
END:STANDARD
BEGIN:DAYLIGHT
TZOFFSETFROM:+0100
TZOFFSETTO:+0200
TZNAME:CEST
DTSTART:20250330T010000
END:DAYLIGHT
BEGIN:STANDARD
TZOFFSETFROM:+0200
TZOFFSETTO:+0100
TZNAME:CET
DTSTART:20251026T010000
END:STANDARD
END:VTIMEZONE
BEGIN:VEVENT
DTSTART;TZID=Europe/Berlin:20240626T163000
DTEND;TZID=Europe/Berlin:20240626T180000
DTSTAMP:20260422T230917
CREATED:20240429T093703Z
LAST-MODIFIED:20240429T093706Z
UID:10000128-1719419400-1719424800@stern-drewitz.de
SUMMARY:Offenes Gärtnern
DESCRIPTION:So eine wunderbare Zeit im Garten! Alles ist frisch und im Entstehen. Also lasst uns gemeinsam zu Werke gehen. Kommt vorbei\, packt mit an und tauscht euch aus. Anmeldung: nicht notwendig
URL:https://stern-drewitz.de/veranstaltung/offenes-gaertnern/2024-06-26/
LOCATION:Wendeschleife – Klimagarten\, Konrad-Wolf-Allee / Slatan-Dudow-Straße\, Potsdam\, 14480
ATTACH;FMTTYPE=image/jpeg:https://stern-drewitz.de/wp-content/uploads/sites/2/2024/04/Gaertnern.jpg
ORGANIZER;CN="Wendeschleife":MAILTO:team@wendeschleife-drewitz.de
END:VEVENT
BEGIN:VEVENT
DTSTART;TZID=Europe/Berlin:20240619T163000
DTEND;TZID=Europe/Berlin:20240619T180000
DTSTAMP:20260422T230917
CREATED:20240429T093703Z
LAST-MODIFIED:20240429T093706Z
UID:10000127-1718814600-1718820000@stern-drewitz.de
SUMMARY:Offenes Gärtnern
DESCRIPTION:So eine wunderbare Zeit im Garten! Alles ist frisch und im Entstehen. Also lasst uns gemeinsam zu Werke gehen. Kommt vorbei\, packt mit an und tauscht euch aus. Anmeldung: nicht notwendig
URL:https://stern-drewitz.de/veranstaltung/offenes-gaertnern/2024-06-19/
LOCATION:Wendeschleife – Klimagarten\, Konrad-Wolf-Allee / Slatan-Dudow-Straße\, Potsdam\, 14480
ATTACH;FMTTYPE=image/jpeg:https://stern-drewitz.de/wp-content/uploads/sites/2/2024/04/Gaertnern.jpg
ORGANIZER;CN="Wendeschleife":MAILTO:team@wendeschleife-drewitz.de
END:VEVENT
BEGIN:VEVENT
DTSTART;TZID=Europe/Berlin:20240613T190000
DTEND;TZID=Europe/Berlin:20240613T203000
DTSTAMP:20260422T230917
CREATED:20240424T104508Z
LAST-MODIFIED:20240429T094121Z
UID:10000112-1718305200-1718310600@stern-drewitz.de
SUMMARY:Handarbeitscafé
DESCRIPTION:Eine kleine Auszeit vom Alltag! An alle die sich gern bei Handarbeit entspannen oder etwas Neues ausprobieren möchten. In gemütlich-geselliger Runde könnt ihr euch bei netten Gesprächen in Sticken\, Häkeln\, Makramee & Co. ausprobieren und eurer Kreativität freien Lauf lassen. Materialien und Anregungen bringt die Referentin mit. Es gibt kein festes Programm – solltest du etwas ausprobieren wollen oder die Zeit suchen an einem bestehenden Projekt weiter zu arbeiten\, bist du herzlich eingeladen.    Teilnahme: ab 18 Jahre \n\n\n\nAnmeldungen: dringend erforderlich \n\n\n\nDie Veranstaltung findet im Kiezraum Drewitz statt.
URL:https://stern-drewitz.de/veranstaltung/handarbeitscafe/2024-06-13/
LOCATION:Wendeschleife – Klimagarten\, Konrad-Wolf-Allee / Slatan-Dudow-Straße\, Potsdam\, 14480
ATTACH;FMTTYPE=image/jpeg:https://stern-drewitz.de/wp-content/uploads/sites/2/2024/04/Handarbeitscafe-e1713955757520.jpg
ORGANIZER;CN="Wendeschleife":MAILTO:team@wendeschleife-drewitz.de
END:VEVENT
BEGIN:VEVENT
DTSTART;TZID=Europe/Berlin:20240612T163000
DTEND;TZID=Europe/Berlin:20240612T180000
DTSTAMP:20260422T230917
CREATED:20240429T093703Z
LAST-MODIFIED:20240429T093706Z
UID:10000126-1718209800-1718215200@stern-drewitz.de
SUMMARY:Offenes Gärtnern
DESCRIPTION:So eine wunderbare Zeit im Garten! Alles ist frisch und im Entstehen. Also lasst uns gemeinsam zu Werke gehen. Kommt vorbei\, packt mit an und tauscht euch aus. Anmeldung: nicht notwendig
URL:https://stern-drewitz.de/veranstaltung/offenes-gaertnern/2024-06-12/
LOCATION:Wendeschleife – Klimagarten\, Konrad-Wolf-Allee / Slatan-Dudow-Straße\, Potsdam\, 14480
ATTACH;FMTTYPE=image/jpeg:https://stern-drewitz.de/wp-content/uploads/sites/2/2024/04/Gaertnern.jpg
ORGANIZER;CN="Wendeschleife":MAILTO:team@wendeschleife-drewitz.de
END:VEVENT
BEGIN:VEVENT
DTSTART;TZID=Europe/Berlin:20240612T163000
DTEND;TZID=Europe/Berlin:20240612T180000
DTSTAMP:20260422T230917
CREATED:20240424T110814Z
LAST-MODIFIED:20240429T094309Z
UID:10000120-1718209800-1718215200@stern-drewitz.de
SUMMARY:Klimakochen
DESCRIPTION:Gesund und lecker! Lasst uns gemeinsam ein Juni-Gericht mit saisonalen Zutaten kochen. Die Ernährung ist ein Bereich des Klima-\, Tier- und Umweltschutz\, bei dem jede Person mit ihrer Kaufentscheidung etwas bewegen kann. Macht mit und lasst euch überraschen welche Köstlichkeiten wir gemeinsam zaubern und verspeisen. \n\n\n\nmit Anmeldung 0176/32388706\, team@wendeschleife-drewitz.de oder persönlich im Büro \n\n\n\nDie Veranstaltung findet im oskar.DAS BEGEGNUNGSZENTRUM in der Stadtteilküche statt.
URL:https://stern-drewitz.de/veranstaltung/klimakochen/2024-06-12/
LOCATION:Wendeschleife – Klimagarten\, Konrad-Wolf-Allee / Slatan-Dudow-Straße\, Potsdam\, 14480
ATTACH;FMTTYPE=image/jpeg:https://stern-drewitz.de/wp-content/uploads/sites/2/2024/04/Spargel-und-Erdbeeren-Bild-von-Rita-👩‍🍳-und-📷-mit-❤-auf-Pixabay.jpg
ORGANIZER;CN="Wendeschleife":MAILTO:team@wendeschleife-drewitz.de
END:VEVENT
BEGIN:VEVENT
DTSTART;TZID=Europe/Berlin:20240605T163000
DTEND;TZID=Europe/Berlin:20240605T180000
DTSTAMP:20260422T230917
CREATED:20240429T093703Z
LAST-MODIFIED:20240429T093706Z
UID:10000125-1717605000-1717610400@stern-drewitz.de
SUMMARY:Offenes Gärtnern
DESCRIPTION:So eine wunderbare Zeit im Garten! Alles ist frisch und im Entstehen. Also lasst uns gemeinsam zu Werke gehen. Kommt vorbei\, packt mit an und tauscht euch aus. Anmeldung: nicht notwendig
URL:https://stern-drewitz.de/veranstaltung/offenes-gaertnern/2024-06-05/
LOCATION:Wendeschleife – Klimagarten\, Konrad-Wolf-Allee / Slatan-Dudow-Straße\, Potsdam\, 14480
ATTACH;FMTTYPE=image/jpeg:https://stern-drewitz.de/wp-content/uploads/sites/2/2024/04/Gaertnern.jpg
ORGANIZER;CN="Wendeschleife":MAILTO:team@wendeschleife-drewitz.de
END:VEVENT
BEGIN:VEVENT
DTSTART;TZID=Europe/Berlin:20240531T150000
DTEND;TZID=Europe/Berlin:20240531T180000
DTSTAMP:20260422T230917
CREATED:20240429T105533Z
LAST-MODIFIED:20240429T105534Z
UID:10000134-1717167600-1717178400@stern-drewitz.de
SUMMARY:Tag der Nachbarschaft
DESCRIPTION:Gefeiert wird der Weltnachbarschaftstag mit einem interkulturellen Mitbringpicknick und musikalischen Highlights aus aller Welt. Picknickdecken nicht vergessen.
URL:https://stern-drewitz.de/veranstaltung/tag-der-nachbarschaft/
LOCATION:Wendeschleife – Klimagarten\, Konrad-Wolf-Allee / Slatan-Dudow-Straße\, Potsdam\, 14480
ATTACH;FMTTYPE=image/png:https://stern-drewitz.de/wp-content/uploads/sites/2/2024/04/Tag-der-Nachbarn-2024.png
ORGANIZER;CN="oskar.DAS BEGEGNUNGSZENTRUM":MAILTO:info@oskar-drewitz.de
END:VEVENT
BEGIN:VEVENT
DTSTART;TZID=Europe/Berlin:20240530T190000
DTEND;TZID=Europe/Berlin:20240530T203000
DTSTAMP:20260422T230917
CREATED:20240424T104508Z
LAST-MODIFIED:20240429T094121Z
UID:10000111-1717095600-1717101000@stern-drewitz.de
SUMMARY:Handarbeitscafé
DESCRIPTION:Eine kleine Auszeit vom Alltag! An alle die sich gern bei Handarbeit entspannen oder etwas Neues ausprobieren möchten. In gemütlich-geselliger Runde könnt ihr euch bei netten Gesprächen in Sticken\, Häkeln\, Makramee & Co. ausprobieren und eurer Kreativität freien Lauf lassen. Materialien und Anregungen bringt die Referentin mit. Es gibt kein festes Programm – solltest du etwas ausprobieren wollen oder die Zeit suchen an einem bestehenden Projekt weiter zu arbeiten\, bist du herzlich eingeladen.    Teilnahme: ab 18 Jahre \n\n\n\nAnmeldungen: dringend erforderlich \n\n\n\nDie Veranstaltung findet im Kiezraum Drewitz statt.
URL:https://stern-drewitz.de/veranstaltung/handarbeitscafe/2024-05-30/
LOCATION:Wendeschleife – Klimagarten\, Konrad-Wolf-Allee / Slatan-Dudow-Straße\, Potsdam\, 14480
ATTACH;FMTTYPE=image/jpeg:https://stern-drewitz.de/wp-content/uploads/sites/2/2024/04/Handarbeitscafe-e1713955757520.jpg
ORGANIZER;CN="Wendeschleife":MAILTO:team@wendeschleife-drewitz.de
END:VEVENT
BEGIN:VEVENT
DTSTART;TZID=Europe/Berlin:20240529T163000
DTEND;TZID=Europe/Berlin:20240529T180000
DTSTAMP:20260422T230917
CREATED:20240429T093703Z
LAST-MODIFIED:20240429T093706Z
UID:10000124-1717000200-1717005600@stern-drewitz.de
SUMMARY:Offenes Gärtnern
DESCRIPTION:So eine wunderbare Zeit im Garten! Alles ist frisch und im Entstehen. Also lasst uns gemeinsam zu Werke gehen. Kommt vorbei\, packt mit an und tauscht euch aus. Anmeldung: nicht notwendig
URL:https://stern-drewitz.de/veranstaltung/offenes-gaertnern/2024-05-29/
LOCATION:Wendeschleife – Klimagarten\, Konrad-Wolf-Allee / Slatan-Dudow-Straße\, Potsdam\, 14480
ATTACH;FMTTYPE=image/jpeg:https://stern-drewitz.de/wp-content/uploads/sites/2/2024/04/Gaertnern.jpg
ORGANIZER;CN="Wendeschleife":MAILTO:team@wendeschleife-drewitz.de
END:VEVENT
BEGIN:VEVENT
DTSTART;TZID=Europe/Berlin:20240522T163000
DTEND;TZID=Europe/Berlin:20240522T180000
DTSTAMP:20260422T230917
CREATED:20240429T093703Z
LAST-MODIFIED:20240429T093706Z
UID:10000123-1716395400-1716400800@stern-drewitz.de
SUMMARY:Offenes Gärtnern
DESCRIPTION:So eine wunderbare Zeit im Garten! Alles ist frisch und im Entstehen. Also lasst uns gemeinsam zu Werke gehen. Kommt vorbei\, packt mit an und tauscht euch aus. Anmeldung: nicht notwendig
URL:https://stern-drewitz.de/veranstaltung/offenes-gaertnern/2024-05-22/
LOCATION:Wendeschleife – Klimagarten\, Konrad-Wolf-Allee / Slatan-Dudow-Straße\, Potsdam\, 14480
ATTACH;FMTTYPE=image/jpeg:https://stern-drewitz.de/wp-content/uploads/sites/2/2024/04/Gaertnern.jpg
ORGANIZER;CN="Wendeschleife":MAILTO:team@wendeschleife-drewitz.de
END:VEVENT
BEGIN:VEVENT
DTSTART;TZID=Europe/Berlin:20240516T190000
DTEND;TZID=Europe/Berlin:20240516T203000
DTSTAMP:20260422T230917
CREATED:20240424T104508Z
LAST-MODIFIED:20240429T094121Z
UID:10000110-1715886000-1715891400@stern-drewitz.de
SUMMARY:Handarbeitscafé
DESCRIPTION:Eine kleine Auszeit vom Alltag! An alle die sich gern bei Handarbeit entspannen oder etwas Neues ausprobieren möchten. In gemütlich-geselliger Runde könnt ihr euch bei netten Gesprächen in Sticken\, Häkeln\, Makramee & Co. ausprobieren und eurer Kreativität freien Lauf lassen. Materialien und Anregungen bringt die Referentin mit. Es gibt kein festes Programm – solltest du etwas ausprobieren wollen oder die Zeit suchen an einem bestehenden Projekt weiter zu arbeiten\, bist du herzlich eingeladen.    Teilnahme: ab 18 Jahre \n\n\n\nAnmeldungen: dringend erforderlich \n\n\n\nDie Veranstaltung findet im Kiezraum Drewitz statt.
URL:https://stern-drewitz.de/veranstaltung/handarbeitscafe/2024-05-16/
LOCATION:Wendeschleife – Klimagarten\, Konrad-Wolf-Allee / Slatan-Dudow-Straße\, Potsdam\, 14480
ATTACH;FMTTYPE=image/jpeg:https://stern-drewitz.de/wp-content/uploads/sites/2/2024/04/Handarbeitscafe-e1713955757520.jpg
ORGANIZER;CN="Wendeschleife":MAILTO:team@wendeschleife-drewitz.de
END:VEVENT
BEGIN:VEVENT
DTSTART;TZID=Europe/Berlin:20240515T163000
DTEND;TZID=Europe/Berlin:20240515T180000
DTSTAMP:20260422T230917
CREATED:20240424T110814Z
LAST-MODIFIED:20240429T094309Z
UID:10000119-1715790600-1715796000@stern-drewitz.de
SUMMARY:Klimakochen
DESCRIPTION:Gesund und lecker! Lasst uns gemeinsam ein Juni-Gericht mit saisonalen Zutaten kochen. Die Ernährung ist ein Bereich des Klima-\, Tier- und Umweltschutz\, bei dem jede Person mit ihrer Kaufentscheidung etwas bewegen kann. Macht mit und lasst euch überraschen welche Köstlichkeiten wir gemeinsam zaubern und verspeisen. \n\n\n\nmit Anmeldung 0176/32388706\, team@wendeschleife-drewitz.de oder persönlich im Büro \n\n\n\nDie Veranstaltung findet im oskar.DAS BEGEGNUNGSZENTRUM in der Stadtteilküche statt.
URL:https://stern-drewitz.de/veranstaltung/klimakochen/2024-05-15/
LOCATION:Wendeschleife – Klimagarten\, Konrad-Wolf-Allee / Slatan-Dudow-Straße\, Potsdam\, 14480
ATTACH;FMTTYPE=image/jpeg:https://stern-drewitz.de/wp-content/uploads/sites/2/2024/04/Spargel-und-Erdbeeren-Bild-von-Rita-👩‍🍳-und-📷-mit-❤-auf-Pixabay.jpg
ORGANIZER;CN="Wendeschleife":MAILTO:team@wendeschleife-drewitz.de
END:VEVENT
BEGIN:VEVENT
DTSTART;TZID=Europe/Berlin:20240502T190000
DTEND;TZID=Europe/Berlin:20240502T203000
DTSTAMP:20260422T230917
CREATED:20240424T104508Z
LAST-MODIFIED:20240429T094121Z
UID:10000109-1714676400-1714681800@stern-drewitz.de
SUMMARY:Handarbeitscafé
DESCRIPTION:Eine kleine Auszeit vom Alltag! An alle die sich gern bei Handarbeit entspannen oder etwas Neues ausprobieren möchten. In gemütlich-geselliger Runde könnt ihr euch bei netten Gesprächen in Sticken\, Häkeln\, Makramee & Co. ausprobieren und eurer Kreativität freien Lauf lassen. Materialien und Anregungen bringt die Referentin mit. Es gibt kein festes Programm – solltest du etwas ausprobieren wollen oder die Zeit suchen an einem bestehenden Projekt weiter zu arbeiten\, bist du herzlich eingeladen.    Teilnahme: ab 18 Jahre \n\n\n\nAnmeldungen: dringend erforderlich \n\n\n\nDie Veranstaltung findet im Kiezraum Drewitz statt.
URL:https://stern-drewitz.de/veranstaltung/handarbeitscafe/2024-05-02/
LOCATION:Wendeschleife – Klimagarten\, Konrad-Wolf-Allee / Slatan-Dudow-Straße\, Potsdam\, 14480
ATTACH;FMTTYPE=image/jpeg:https://stern-drewitz.de/wp-content/uploads/sites/2/2024/04/Handarbeitscafe-e1713955757520.jpg
ORGANIZER;CN="Wendeschleife":MAILTO:team@wendeschleife-drewitz.de
END:VEVENT
BEGIN:VEVENT
DTSTART;TZID=Europe/Berlin:20240426T150000
DTEND;TZID=Europe/Berlin:20240426T180000
DTSTAMP:20260422T230917
CREATED:20240424T105914Z
LAST-MODIFIED:20240424T105915Z
UID:10000118-1714143600-1714154400@stern-drewitz.de
SUMMARY:Saisoneröffnung Klimagarten Wendeschleife
DESCRIPTION:Alle Drewitzerinnen\, Drewitzer und Interessierte sind herzlich auf die Wendeschleife rund um den Klimagarten eingeladen\, um feierlich die Gartensaison zu eröffnen. Unter anderem erwartet die Gäste ein kleiner Floh- und Tauschmarkt. Dazu gibt es zahlreiche Aktionen wie Basteln\, Kräuterkunde\, Einpflanzen & Co. In gewohnt kunterbunt-fröhlicher Atmosphäre lassen wir es uns bei klimafreundlicher Verpflegung gut gehen.
URL:https://stern-drewitz.de/veranstaltung/saisoneroeffnung-klimagarten-wendeschleife/
LOCATION:Wendeschleife – Klimagarten\, Konrad-Wolf-Allee / Slatan-Dudow-Straße\, Potsdam\, 14480
ATTACH;FMTTYPE=image/jpeg:https://stern-drewitz.de/wp-content/uploads/sites/2/2024/04/Klimagarten-1024x498-1.jpg
ORGANIZER;CN="Wendeschleife":MAILTO:team@wendeschleife-drewitz.de
END:VEVENT
END:VCALENDAR