BEGIN:VCALENDAR
VERSION:2.0
PRODID:-//Stern-Drewitz - ECPv6.15.20//NONSGML v1.0//EN
CALSCALE:GREGORIAN
METHOD:PUBLISH
X-ORIGINAL-URL:https://stern-drewitz.de
X-WR-CALDESC:Veranstaltungen für Stern-Drewitz
REFRESH-INTERVAL;VALUE=DURATION:PT1H
X-Robots-Tag:noindex
X-PUBLISHED-TTL:PT1H
BEGIN:VTIMEZONE
TZID:Europe/Berlin
BEGIN:DAYLIGHT
TZOFFSETFROM:+0100
TZOFFSETTO:+0200
TZNAME:CEST
DTSTART:20240331T010000
END:DAYLIGHT
BEGIN:STANDARD
TZOFFSETFROM:+0200
TZOFFSETTO:+0100
TZNAME:CET
DTSTART:20241027T010000
END:STANDARD
BEGIN:DAYLIGHT
TZOFFSETFROM:+0100
TZOFFSETTO:+0200
TZNAME:CEST
DTSTART:20250330T010000
END:DAYLIGHT
BEGIN:STANDARD
TZOFFSETFROM:+0200
TZOFFSETTO:+0100
TZNAME:CET
DTSTART:20251026T010000
END:STANDARD
BEGIN:DAYLIGHT
TZOFFSETFROM:+0100
TZOFFSETTO:+0200
TZNAME:CEST
DTSTART:20260329T010000
END:DAYLIGHT
BEGIN:STANDARD
TZOFFSETFROM:+0200
TZOFFSETTO:+0100
TZNAME:CET
DTSTART:20261025T010000
END:STANDARD
END:VTIMEZONE
BEGIN:VEVENT
DTSTART;TZID=Europe/Berlin:20250719T000000
DTEND;TZID=Europe/Berlin:20250719T235959
DTSTAMP:20260422T163544
CREATED:20250327T070823Z
LAST-MODIFIED:20250815T080506Z
UID:10000460-1752883200-1752969599@stern-drewitz.de
SUMMARY:Fotowettbewerb "Insekten"
DESCRIPTION:ab sofort bis zum 01. Oktober 2025Was summt und brummt\, was krabbelt und fliegt denn da? Macht mit bei unserem Fotowettbewerb zum Thema „Insekten“.Schick uns dein Foto bis zum 01. Oktober 2025 an team@wendeschleife-drewitz.de.Eine Jury entscheidet welche Fotos bei uns ausgestellt werden und einen Preis bekommen.Euer Team Wendeschleife \n\n\n\nBild von Team Wendeschleife
URL:https://stern-drewitz.de/veranstaltung/fotowettbewerb-insekten/2025-07-19/
LOCATION:Wendeschleife – Klimagarten\, Konrad-Wolf-Allee / Slatan-Dudow-Straße\, Potsdam\, 14480
ATTACH;FMTTYPE=image/jpeg:https://stern-drewitz.de/wp-content/uploads/sites/2/2025/03/Insekten-Bild-Team-Wendeschleife.jpg
END:VEVENT
BEGIN:VEVENT
DTSTART;TZID=Europe/Berlin:20250716T163000
DTEND;TZID=Europe/Berlin:20250716T180000
DTSTAMP:20260422T163544
CREATED:20250430T072124Z
LAST-MODIFIED:20250430T072125Z
UID:10000567-1752683400-1752688800@stern-drewitz.de
SUMMARY:Offenes Gärtnern
DESCRIPTION:So eine wunderbare Zeit im Garten! Alles ist frisch und im Entstehen. Also lasst uns gemeinsam loslegen. Alle sind herzlich eingeladen.Anmeldung: nicht notwendig
URL:https://stern-drewitz.de/veranstaltung/offenes-gaertnern-2/2025-07-16/
LOCATION:Wendeschleife – Klimagarten\, Konrad-Wolf-Allee / Slatan-Dudow-Straße\, Potsdam\, 14480
CATEGORIES:Wendeschleife
ATTACH;FMTTYPE=image/jpeg:https://stern-drewitz.de/wp-content/uploads/sites/2/2025/04/Wendeschleife-Offenes-Gaertnern.jpg
ORGANIZER;CN="Wendeschleife":MAILTO:team@wendeschleife-drewitz.de
END:VEVENT
BEGIN:VEVENT
DTSTART;TZID=Europe/Berlin:20250712T000000
DTEND;TZID=Europe/Berlin:20250712T235959
DTSTAMP:20260422T163544
CREATED:20250327T070823Z
LAST-MODIFIED:20250815T080506Z
UID:10000453-1752278400-1752364799@stern-drewitz.de
SUMMARY:Fotowettbewerb "Insekten"
DESCRIPTION:ab sofort bis zum 01. Oktober 2025Was summt und brummt\, was krabbelt und fliegt denn da? Macht mit bei unserem Fotowettbewerb zum Thema „Insekten“.Schick uns dein Foto bis zum 01. Oktober 2025 an team@wendeschleife-drewitz.de.Eine Jury entscheidet welche Fotos bei uns ausgestellt werden und einen Preis bekommen.Euer Team Wendeschleife \n\n\n\nBild von Team Wendeschleife
URL:https://stern-drewitz.de/veranstaltung/fotowettbewerb-insekten/2025-07-12/
LOCATION:Wendeschleife – Klimagarten\, Konrad-Wolf-Allee / Slatan-Dudow-Straße\, Potsdam\, 14480
ATTACH;FMTTYPE=image/jpeg:https://stern-drewitz.de/wp-content/uploads/sites/2/2025/03/Insekten-Bild-Team-Wendeschleife.jpg
END:VEVENT
BEGIN:VEVENT
DTSTART;TZID=Europe/Berlin:20250709T163000
DTEND;TZID=Europe/Berlin:20250709T180000
DTSTAMP:20260422T163544
CREATED:20250430T072124Z
LAST-MODIFIED:20250430T072125Z
UID:10000566-1752078600-1752084000@stern-drewitz.de
SUMMARY:Offenes Gärtnern
DESCRIPTION:So eine wunderbare Zeit im Garten! Alles ist frisch und im Entstehen. Also lasst uns gemeinsam loslegen. Alle sind herzlich eingeladen.Anmeldung: nicht notwendig
URL:https://stern-drewitz.de/veranstaltung/offenes-gaertnern-2/2025-07-09/
LOCATION:Wendeschleife – Klimagarten\, Konrad-Wolf-Allee / Slatan-Dudow-Straße\, Potsdam\, 14480
CATEGORIES:Wendeschleife
ATTACH;FMTTYPE=image/jpeg:https://stern-drewitz.de/wp-content/uploads/sites/2/2025/04/Wendeschleife-Offenes-Gaertnern.jpg
ORGANIZER;CN="Wendeschleife":MAILTO:team@wendeschleife-drewitz.de
END:VEVENT
BEGIN:VEVENT
DTSTART;TZID=Europe/Berlin:20250705T000000
DTEND;TZID=Europe/Berlin:20250705T235959
DTSTAMP:20260422T163544
CREATED:20250327T070823Z
LAST-MODIFIED:20250815T080506Z
UID:10000446-1751673600-1751759999@stern-drewitz.de
SUMMARY:Fotowettbewerb "Insekten"
DESCRIPTION:ab sofort bis zum 01. Oktober 2025Was summt und brummt\, was krabbelt und fliegt denn da? Macht mit bei unserem Fotowettbewerb zum Thema „Insekten“.Schick uns dein Foto bis zum 01. Oktober 2025 an team@wendeschleife-drewitz.de.Eine Jury entscheidet welche Fotos bei uns ausgestellt werden und einen Preis bekommen.Euer Team Wendeschleife \n\n\n\nBild von Team Wendeschleife
URL:https://stern-drewitz.de/veranstaltung/fotowettbewerb-insekten/2025-07-05/
LOCATION:Wendeschleife – Klimagarten\, Konrad-Wolf-Allee / Slatan-Dudow-Straße\, Potsdam\, 14480
ATTACH;FMTTYPE=image/jpeg:https://stern-drewitz.de/wp-content/uploads/sites/2/2025/03/Insekten-Bild-Team-Wendeschleife.jpg
END:VEVENT
BEGIN:VEVENT
DTSTART;TZID=Europe/Berlin:20250702T163000
DTEND;TZID=Europe/Berlin:20250702T180000
DTSTAMP:20260422T163544
CREATED:20250430T072124Z
LAST-MODIFIED:20250430T072125Z
UID:10000565-1751473800-1751479200@stern-drewitz.de
SUMMARY:Offenes Gärtnern
DESCRIPTION:So eine wunderbare Zeit im Garten! Alles ist frisch und im Entstehen. Also lasst uns gemeinsam loslegen. Alle sind herzlich eingeladen.Anmeldung: nicht notwendig
URL:https://stern-drewitz.de/veranstaltung/offenes-gaertnern-2/2025-07-02/
LOCATION:Wendeschleife – Klimagarten\, Konrad-Wolf-Allee / Slatan-Dudow-Straße\, Potsdam\, 14480
CATEGORIES:Wendeschleife
ATTACH;FMTTYPE=image/jpeg:https://stern-drewitz.de/wp-content/uploads/sites/2/2025/04/Wendeschleife-Offenes-Gaertnern.jpg
ORGANIZER;CN="Wendeschleife":MAILTO:team@wendeschleife-drewitz.de
END:VEVENT
BEGIN:VEVENT
DTSTART;TZID=Europe/Berlin:20250628T000000
DTEND;TZID=Europe/Berlin:20250628T235959
DTSTAMP:20260422T163544
CREATED:20250327T070823Z
LAST-MODIFIED:20250815T080506Z
UID:10000439-1751068800-1751155199@stern-drewitz.de
SUMMARY:Fotowettbewerb "Insekten"
DESCRIPTION:ab sofort bis zum 01. Oktober 2025Was summt und brummt\, was krabbelt und fliegt denn da? Macht mit bei unserem Fotowettbewerb zum Thema „Insekten“.Schick uns dein Foto bis zum 01. Oktober 2025 an team@wendeschleife-drewitz.de.Eine Jury entscheidet welche Fotos bei uns ausgestellt werden und einen Preis bekommen.Euer Team Wendeschleife \n\n\n\nBild von Team Wendeschleife
URL:https://stern-drewitz.de/veranstaltung/fotowettbewerb-insekten/2025-06-28/
LOCATION:Wendeschleife – Klimagarten\, Konrad-Wolf-Allee / Slatan-Dudow-Straße\, Potsdam\, 14480
ATTACH;FMTTYPE=image/jpeg:https://stern-drewitz.de/wp-content/uploads/sites/2/2025/03/Insekten-Bild-Team-Wendeschleife.jpg
END:VEVENT
BEGIN:VEVENT
DTSTART;TZID=Europe/Berlin:20250625T163000
DTEND;TZID=Europe/Berlin:20250625T180000
DTSTAMP:20260422T163544
CREATED:20250430T072124Z
LAST-MODIFIED:20250430T072125Z
UID:10000564-1750869000-1750874400@stern-drewitz.de
SUMMARY:Offenes Gärtnern
DESCRIPTION:So eine wunderbare Zeit im Garten! Alles ist frisch und im Entstehen. Also lasst uns gemeinsam loslegen. Alle sind herzlich eingeladen.Anmeldung: nicht notwendig
URL:https://stern-drewitz.de/veranstaltung/offenes-gaertnern-2/2025-06-25/
LOCATION:Wendeschleife – Klimagarten\, Konrad-Wolf-Allee / Slatan-Dudow-Straße\, Potsdam\, 14480
CATEGORIES:Wendeschleife
ATTACH;FMTTYPE=image/jpeg:https://stern-drewitz.de/wp-content/uploads/sites/2/2025/04/Wendeschleife-Offenes-Gaertnern.jpg
ORGANIZER;CN="Wendeschleife":MAILTO:team@wendeschleife-drewitz.de
END:VEVENT
BEGIN:VEVENT
DTSTART;TZID=Europe/Berlin:20250621T000000
DTEND;TZID=Europe/Berlin:20250621T235959
DTSTAMP:20260422T163544
CREATED:20250327T070823Z
LAST-MODIFIED:20250815T080506Z
UID:10000432-1750464000-1750550399@stern-drewitz.de
SUMMARY:Fotowettbewerb "Insekten"
DESCRIPTION:ab sofort bis zum 01. Oktober 2025Was summt und brummt\, was krabbelt und fliegt denn da? Macht mit bei unserem Fotowettbewerb zum Thema „Insekten“.Schick uns dein Foto bis zum 01. Oktober 2025 an team@wendeschleife-drewitz.de.Eine Jury entscheidet welche Fotos bei uns ausgestellt werden und einen Preis bekommen.Euer Team Wendeschleife \n\n\n\nBild von Team Wendeschleife
URL:https://stern-drewitz.de/veranstaltung/fotowettbewerb-insekten/2025-06-21/
LOCATION:Wendeschleife – Klimagarten\, Konrad-Wolf-Allee / Slatan-Dudow-Straße\, Potsdam\, 14480
ATTACH;FMTTYPE=image/jpeg:https://stern-drewitz.de/wp-content/uploads/sites/2/2025/03/Insekten-Bild-Team-Wendeschleife.jpg
END:VEVENT
BEGIN:VEVENT
DTSTART;TZID=Europe/Berlin:20250618T163000
DTEND;TZID=Europe/Berlin:20250618T180000
DTSTAMP:20260422T163544
CREATED:20250430T072124Z
LAST-MODIFIED:20250430T072125Z
UID:10000563-1750264200-1750269600@stern-drewitz.de
SUMMARY:Offenes Gärtnern
DESCRIPTION:So eine wunderbare Zeit im Garten! Alles ist frisch und im Entstehen. Also lasst uns gemeinsam loslegen. Alle sind herzlich eingeladen.Anmeldung: nicht notwendig
URL:https://stern-drewitz.de/veranstaltung/offenes-gaertnern-2/2025-06-18/
LOCATION:Wendeschleife – Klimagarten\, Konrad-Wolf-Allee / Slatan-Dudow-Straße\, Potsdam\, 14480
CATEGORIES:Wendeschleife
ATTACH;FMTTYPE=image/jpeg:https://stern-drewitz.de/wp-content/uploads/sites/2/2025/04/Wendeschleife-Offenes-Gaertnern.jpg
ORGANIZER;CN="Wendeschleife":MAILTO:team@wendeschleife-drewitz.de
END:VEVENT
BEGIN:VEVENT
DTSTART;TZID=Europe/Berlin:20250614T000000
DTEND;TZID=Europe/Berlin:20250614T235959
DTSTAMP:20260422T163544
CREATED:20250327T070823Z
LAST-MODIFIED:20250815T080506Z
UID:10000425-1749859200-1749945599@stern-drewitz.de
SUMMARY:Fotowettbewerb "Insekten"
DESCRIPTION:ab sofort bis zum 01. Oktober 2025Was summt und brummt\, was krabbelt und fliegt denn da? Macht mit bei unserem Fotowettbewerb zum Thema „Insekten“.Schick uns dein Foto bis zum 01. Oktober 2025 an team@wendeschleife-drewitz.de.Eine Jury entscheidet welche Fotos bei uns ausgestellt werden und einen Preis bekommen.Euer Team Wendeschleife \n\n\n\nBild von Team Wendeschleife
URL:https://stern-drewitz.de/veranstaltung/fotowettbewerb-insekten/2025-06-14/
LOCATION:Wendeschleife – Klimagarten\, Konrad-Wolf-Allee / Slatan-Dudow-Straße\, Potsdam\, 14480
ATTACH;FMTTYPE=image/jpeg:https://stern-drewitz.de/wp-content/uploads/sites/2/2025/03/Insekten-Bild-Team-Wendeschleife.jpg
END:VEVENT
BEGIN:VEVENT
DTSTART;TZID=Europe/Berlin:20250611T163000
DTEND;TZID=Europe/Berlin:20250611T180000
DTSTAMP:20260422T163544
CREATED:20250430T072124Z
LAST-MODIFIED:20250430T072125Z
UID:10000562-1749659400-1749664800@stern-drewitz.de
SUMMARY:Offenes Gärtnern
DESCRIPTION:So eine wunderbare Zeit im Garten! Alles ist frisch und im Entstehen. Also lasst uns gemeinsam loslegen. Alle sind herzlich eingeladen.Anmeldung: nicht notwendig
URL:https://stern-drewitz.de/veranstaltung/offenes-gaertnern-2/2025-06-11/
LOCATION:Wendeschleife – Klimagarten\, Konrad-Wolf-Allee / Slatan-Dudow-Straße\, Potsdam\, 14480
CATEGORIES:Wendeschleife
ATTACH;FMTTYPE=image/jpeg:https://stern-drewitz.de/wp-content/uploads/sites/2/2025/04/Wendeschleife-Offenes-Gaertnern.jpg
ORGANIZER;CN="Wendeschleife":MAILTO:team@wendeschleife-drewitz.de
END:VEVENT
BEGIN:VEVENT
DTSTART;TZID=Europe/Berlin:20250607T000000
DTEND;TZID=Europe/Berlin:20250607T235959
DTSTAMP:20260422T163544
CREATED:20250327T070823Z
LAST-MODIFIED:20250815T080506Z
UID:10000418-1749254400-1749340799@stern-drewitz.de
SUMMARY:Fotowettbewerb "Insekten"
DESCRIPTION:ab sofort bis zum 01. Oktober 2025Was summt und brummt\, was krabbelt und fliegt denn da? Macht mit bei unserem Fotowettbewerb zum Thema „Insekten“.Schick uns dein Foto bis zum 01. Oktober 2025 an team@wendeschleife-drewitz.de.Eine Jury entscheidet welche Fotos bei uns ausgestellt werden und einen Preis bekommen.Euer Team Wendeschleife \n\n\n\nBild von Team Wendeschleife
URL:https://stern-drewitz.de/veranstaltung/fotowettbewerb-insekten/2025-06-07/
LOCATION:Wendeschleife – Klimagarten\, Konrad-Wolf-Allee / Slatan-Dudow-Straße\, Potsdam\, 14480
ATTACH;FMTTYPE=image/jpeg:https://stern-drewitz.de/wp-content/uploads/sites/2/2025/03/Insekten-Bild-Team-Wendeschleife.jpg
END:VEVENT
BEGIN:VEVENT
DTSTART;TZID=Europe/Berlin:20250604T163000
DTEND;TZID=Europe/Berlin:20250604T180000
DTSTAMP:20260422T163544
CREATED:20250430T072124Z
LAST-MODIFIED:20250430T072125Z
UID:10000561-1749054600-1749060000@stern-drewitz.de
SUMMARY:Offenes Gärtnern
DESCRIPTION:So eine wunderbare Zeit im Garten! Alles ist frisch und im Entstehen. Also lasst uns gemeinsam loslegen. Alle sind herzlich eingeladen.Anmeldung: nicht notwendig
URL:https://stern-drewitz.de/veranstaltung/offenes-gaertnern-2/2025-06-04/
LOCATION:Wendeschleife – Klimagarten\, Konrad-Wolf-Allee / Slatan-Dudow-Straße\, Potsdam\, 14480
CATEGORIES:Wendeschleife
ATTACH;FMTTYPE=image/jpeg:https://stern-drewitz.de/wp-content/uploads/sites/2/2025/04/Wendeschleife-Offenes-Gaertnern.jpg
ORGANIZER;CN="Wendeschleife":MAILTO:team@wendeschleife-drewitz.de
END:VEVENT
BEGIN:VEVENT
DTSTART;TZID=Europe/Berlin:20250531T000000
DTEND;TZID=Europe/Berlin:20250531T235959
DTSTAMP:20260422T163544
CREATED:20250327T070823Z
LAST-MODIFIED:20250815T080506Z
UID:10000411-1748649600-1748735999@stern-drewitz.de
SUMMARY:Fotowettbewerb "Insekten"
DESCRIPTION:ab sofort bis zum 01. Oktober 2025Was summt und brummt\, was krabbelt und fliegt denn da? Macht mit bei unserem Fotowettbewerb zum Thema „Insekten“.Schick uns dein Foto bis zum 01. Oktober 2025 an team@wendeschleife-drewitz.de.Eine Jury entscheidet welche Fotos bei uns ausgestellt werden und einen Preis bekommen.Euer Team Wendeschleife \n\n\n\nBild von Team Wendeschleife
URL:https://stern-drewitz.de/veranstaltung/fotowettbewerb-insekten/2025-05-31/
LOCATION:Wendeschleife – Klimagarten\, Konrad-Wolf-Allee / Slatan-Dudow-Straße\, Potsdam\, 14480
ATTACH;FMTTYPE=image/jpeg:https://stern-drewitz.de/wp-content/uploads/sites/2/2025/03/Insekten-Bild-Team-Wendeschleife.jpg
END:VEVENT
BEGIN:VEVENT
DTSTART;TZID=Europe/Berlin:20250528T163000
DTEND;TZID=Europe/Berlin:20250528T180000
DTSTAMP:20260422T163544
CREATED:20250430T072124Z
LAST-MODIFIED:20250430T072125Z
UID:10000560-1748449800-1748455200@stern-drewitz.de
SUMMARY:Offenes Gärtnern
DESCRIPTION:So eine wunderbare Zeit im Garten! Alles ist frisch und im Entstehen. Also lasst uns gemeinsam loslegen. Alle sind herzlich eingeladen.Anmeldung: nicht notwendig
URL:https://stern-drewitz.de/veranstaltung/offenes-gaertnern-2/2025-05-28/
LOCATION:Wendeschleife – Klimagarten\, Konrad-Wolf-Allee / Slatan-Dudow-Straße\, Potsdam\, 14480
CATEGORIES:Wendeschleife
ATTACH;FMTTYPE=image/jpeg:https://stern-drewitz.de/wp-content/uploads/sites/2/2025/04/Wendeschleife-Offenes-Gaertnern.jpg
ORGANIZER;CN="Wendeschleife":MAILTO:team@wendeschleife-drewitz.de
END:VEVENT
BEGIN:VEVENT
DTSTART;TZID=Europe/Berlin:20250524T000000
DTEND;TZID=Europe/Berlin:20250524T235959
DTSTAMP:20260422T163544
CREATED:20250327T070823Z
LAST-MODIFIED:20250815T080506Z
UID:10000404-1748044800-1748131199@stern-drewitz.de
SUMMARY:Fotowettbewerb "Insekten"
DESCRIPTION:ab sofort bis zum 01. Oktober 2025Was summt und brummt\, was krabbelt und fliegt denn da? Macht mit bei unserem Fotowettbewerb zum Thema „Insekten“.Schick uns dein Foto bis zum 01. Oktober 2025 an team@wendeschleife-drewitz.de.Eine Jury entscheidet welche Fotos bei uns ausgestellt werden und einen Preis bekommen.Euer Team Wendeschleife \n\n\n\nBild von Team Wendeschleife
URL:https://stern-drewitz.de/veranstaltung/fotowettbewerb-insekten/2025-05-24/
LOCATION:Wendeschleife – Klimagarten\, Konrad-Wolf-Allee / Slatan-Dudow-Straße\, Potsdam\, 14480
ATTACH;FMTTYPE=image/jpeg:https://stern-drewitz.de/wp-content/uploads/sites/2/2025/03/Insekten-Bild-Team-Wendeschleife.jpg
END:VEVENT
BEGIN:VEVENT
DTSTART;TZID=Europe/Berlin:20250523T140000
DTEND;TZID=Europe/Berlin:20250523T180000
DTSTAMP:20260422T163544
CREATED:20250430T074306Z
LAST-MODIFIED:20250430T074331Z
UID:10000582-1748008800-1748023200@stern-drewitz.de
SUMMARY:Tag der Nachbarn
DESCRIPTION:Wir feiern den Weltnachbarschaftstag mit spannenden Gästen und MusikerInnen\, einem interkulturellen Mitbringpicknick und musikalischen Highlights aus aller Welt. Start ist voraussichtlich 14:00 Uhr auf der Wendeschleife\, Picknickdecken nicht vergessen!Anmeldung: nicht erforderlich
URL:https://stern-drewitz.de/veranstaltung/tag-der-nachbarn/
LOCATION:Wendeschleife – Klimagarten\, Konrad-Wolf-Allee / Slatan-Dudow-Straße\, Potsdam\, 14480
ATTACH;FMTTYPE=image/jpeg:https://stern-drewitz.de/wp-content/uploads/sites/2/2025/04/Wendeschleife-Tag-der-Nachbarn.jpg
ORGANIZER;CN="oskar.DAS BEGEGNUNGSZENTRUM":MAILTO:info@oskar-drewitz.de
END:VEVENT
BEGIN:VEVENT
DTSTART;TZID=Europe/Berlin:20250521T163000
DTEND;TZID=Europe/Berlin:20250521T180000
DTSTAMP:20260422T163544
CREATED:20250430T074057Z
LAST-MODIFIED:20250430T074058Z
UID:10000581-1747845000-1747850400@stern-drewitz.de
SUMMARY:Frühlingssträuße und -kränze binden
DESCRIPTION:Von Floristin Tina lernen wir Profitricks und -techniken und binden sogleich wunderschöne Blumensträuße oder Blütenkränze. Das Besondere: Wir verwenden nur Pflanzenmaterial aus Drewitz. Material bringt Tina alles mit.
URL:https://stern-drewitz.de/veranstaltung/fruehlingsstraeusse-und-kraenze-binden/
LOCATION:Wendeschleife – Klimagarten\, Konrad-Wolf-Allee / Slatan-Dudow-Straße\, Potsdam\, 14480
ATTACH;FMTTYPE=image/jpeg:https://stern-drewitz.de/wp-content/uploads/sites/2/2025/04/Wendeschleife-Fruehlingsstraeusse.jpg
ORGANIZER;CN="Wendeschleife":MAILTO:team@wendeschleife-drewitz.de
END:VEVENT
BEGIN:VEVENT
DTSTART;TZID=Europe/Berlin:20250521T163000
DTEND;TZID=Europe/Berlin:20250521T180000
DTSTAMP:20260422T163544
CREATED:20250430T072124Z
LAST-MODIFIED:20250430T072125Z
UID:10000559-1747845000-1747850400@stern-drewitz.de
SUMMARY:Offenes Gärtnern
DESCRIPTION:So eine wunderbare Zeit im Garten! Alles ist frisch und im Entstehen. Also lasst uns gemeinsam loslegen. Alle sind herzlich eingeladen.Anmeldung: nicht notwendig
URL:https://stern-drewitz.de/veranstaltung/offenes-gaertnern-2/2025-05-21/
LOCATION:Wendeschleife – Klimagarten\, Konrad-Wolf-Allee / Slatan-Dudow-Straße\, Potsdam\, 14480
CATEGORIES:Wendeschleife
ATTACH;FMTTYPE=image/jpeg:https://stern-drewitz.de/wp-content/uploads/sites/2/2025/04/Wendeschleife-Offenes-Gaertnern.jpg
ORGANIZER;CN="Wendeschleife":MAILTO:team@wendeschleife-drewitz.de
END:VEVENT
BEGIN:VEVENT
DTSTART;TZID=Europe/Berlin:20250517T000000
DTEND;TZID=Europe/Berlin:20250517T235959
DTSTAMP:20260422T163544
CREATED:20250327T070823Z
LAST-MODIFIED:20250815T080506Z
UID:10000397-1747440000-1747526399@stern-drewitz.de
SUMMARY:Fotowettbewerb "Insekten"
DESCRIPTION:ab sofort bis zum 01. Oktober 2025Was summt und brummt\, was krabbelt und fliegt denn da? Macht mit bei unserem Fotowettbewerb zum Thema „Insekten“.Schick uns dein Foto bis zum 01. Oktober 2025 an team@wendeschleife-drewitz.de.Eine Jury entscheidet welche Fotos bei uns ausgestellt werden und einen Preis bekommen.Euer Team Wendeschleife \n\n\n\nBild von Team Wendeschleife
URL:https://stern-drewitz.de/veranstaltung/fotowettbewerb-insekten/2025-05-17/
LOCATION:Wendeschleife – Klimagarten\, Konrad-Wolf-Allee / Slatan-Dudow-Straße\, Potsdam\, 14480
ATTACH;FMTTYPE=image/jpeg:https://stern-drewitz.de/wp-content/uploads/sites/2/2025/03/Insekten-Bild-Team-Wendeschleife.jpg
END:VEVENT
BEGIN:VEVENT
DTSTART;TZID=Europe/Berlin:20250514T163000
DTEND;TZID=Europe/Berlin:20250514T180000
DTSTAMP:20260422T163544
CREATED:20250430T072124Z
LAST-MODIFIED:20250430T072125Z
UID:10000558-1747240200-1747245600@stern-drewitz.de
SUMMARY:Offenes Gärtnern
DESCRIPTION:So eine wunderbare Zeit im Garten! Alles ist frisch und im Entstehen. Also lasst uns gemeinsam loslegen. Alle sind herzlich eingeladen.Anmeldung: nicht notwendig
URL:https://stern-drewitz.de/veranstaltung/offenes-gaertnern-2/2025-05-14/
LOCATION:Wendeschleife – Klimagarten\, Konrad-Wolf-Allee / Slatan-Dudow-Straße\, Potsdam\, 14480
CATEGORIES:Wendeschleife
ATTACH;FMTTYPE=image/jpeg:https://stern-drewitz.de/wp-content/uploads/sites/2/2025/04/Wendeschleife-Offenes-Gaertnern.jpg
ORGANIZER;CN="Wendeschleife":MAILTO:team@wendeschleife-drewitz.de
END:VEVENT
BEGIN:VEVENT
DTSTART;TZID=Europe/Berlin:20250510T000000
DTEND;TZID=Europe/Berlin:20250510T235959
DTSTAMP:20260422T163544
CREATED:20250327T070823Z
LAST-MODIFIED:20250815T080506Z
UID:10000390-1746835200-1746921599@stern-drewitz.de
SUMMARY:Fotowettbewerb "Insekten"
DESCRIPTION:ab sofort bis zum 01. Oktober 2025Was summt und brummt\, was krabbelt und fliegt denn da? Macht mit bei unserem Fotowettbewerb zum Thema „Insekten“.Schick uns dein Foto bis zum 01. Oktober 2025 an team@wendeschleife-drewitz.de.Eine Jury entscheidet welche Fotos bei uns ausgestellt werden und einen Preis bekommen.Euer Team Wendeschleife \n\n\n\nBild von Team Wendeschleife
URL:https://stern-drewitz.de/veranstaltung/fotowettbewerb-insekten/2025-05-10/
LOCATION:Wendeschleife – Klimagarten\, Konrad-Wolf-Allee / Slatan-Dudow-Straße\, Potsdam\, 14480
ATTACH;FMTTYPE=image/jpeg:https://stern-drewitz.de/wp-content/uploads/sites/2/2025/03/Insekten-Bild-Team-Wendeschleife.jpg
END:VEVENT
BEGIN:VEVENT
DTSTART;TZID=Europe/Berlin:20250507T163000
DTEND;TZID=Europe/Berlin:20250507T180000
DTSTAMP:20260422T163544
CREATED:20250430T072124Z
LAST-MODIFIED:20250430T072125Z
UID:10000557-1746635400-1746640800@stern-drewitz.de
SUMMARY:Offenes Gärtnern
DESCRIPTION:So eine wunderbare Zeit im Garten! Alles ist frisch und im Entstehen. Also lasst uns gemeinsam loslegen. Alle sind herzlich eingeladen.Anmeldung: nicht notwendig
URL:https://stern-drewitz.de/veranstaltung/offenes-gaertnern-2/2025-05-07/
LOCATION:Wendeschleife – Klimagarten\, Konrad-Wolf-Allee / Slatan-Dudow-Straße\, Potsdam\, 14480
CATEGORIES:Wendeschleife
ATTACH;FMTTYPE=image/jpeg:https://stern-drewitz.de/wp-content/uploads/sites/2/2025/04/Wendeschleife-Offenes-Gaertnern.jpg
ORGANIZER;CN="Wendeschleife":MAILTO:team@wendeschleife-drewitz.de
END:VEVENT
BEGIN:VEVENT
DTSTART;TZID=Europe/Berlin:20250503T000000
DTEND;TZID=Europe/Berlin:20250503T235959
DTSTAMP:20260422T163544
CREATED:20250327T070823Z
LAST-MODIFIED:20250815T080506Z
UID:10000383-1746230400-1746316799@stern-drewitz.de
SUMMARY:Fotowettbewerb "Insekten"
DESCRIPTION:ab sofort bis zum 01. Oktober 2025Was summt und brummt\, was krabbelt und fliegt denn da? Macht mit bei unserem Fotowettbewerb zum Thema „Insekten“.Schick uns dein Foto bis zum 01. Oktober 2025 an team@wendeschleife-drewitz.de.Eine Jury entscheidet welche Fotos bei uns ausgestellt werden und einen Preis bekommen.Euer Team Wendeschleife \n\n\n\nBild von Team Wendeschleife
URL:https://stern-drewitz.de/veranstaltung/fotowettbewerb-insekten/2025-05-03/
LOCATION:Wendeschleife – Klimagarten\, Konrad-Wolf-Allee / Slatan-Dudow-Straße\, Potsdam\, 14480
ATTACH;FMTTYPE=image/jpeg:https://stern-drewitz.de/wp-content/uploads/sites/2/2025/03/Insekten-Bild-Team-Wendeschleife.jpg
END:VEVENT
BEGIN:VEVENT
DTSTART;TZID=Europe/Berlin:20250430T190000
DTEND;TZID=Europe/Berlin:20250430T203000
DTSTAMP:20260422T163544
CREATED:20250327T072759Z
LAST-MODIFIED:20250430T072633Z
UID:10000537-1746039600-1746045000@stern-drewitz.de
SUMMARY:Handarbeits-Café
DESCRIPTION:Mittwoch | 02.04./16.04. und 30.04. | 19:00- 20:30 Uhr | Kiezraum*Eine kleine Auszeit vom Alltag! An alle die sich gern bei Handarbeit entspannen oder etwas Neues ausprobieren möchten. In gemütlich-geselliger Runde könnt ihr euch bei netten Gesprächen in Sticken\, Häkeln\, Makramee & Co. ausprobieren und eurer Kreativität freien Lauf lassen. Materialien und Anregungen bringt die Referentin mit. Es gibt kein festes Programm – solltest du etwas ausprobieren wollen oder die Zeit suchen an einem bestehenden Projekt weiter zu arbeiten\, bist du herzlich eingeladen.Teilnahme: ab 18 JahreAnmeldungen: dringend erforderlichUnter: 0176 32388706\, team@wendeschleife-drewitz.de oder persönlich im BüroKosten: freiwilliger Unkostenbeitrag* Der Kiezraum befindet sich in der Konrad-Wolf-Allee 43/45 \n\n\n\nBild von congerdesign auf Pixabay
URL:https://stern-drewitz.de/veranstaltung/handarbeits-cafe/2025-04-30/
LOCATION:Wendeschleife – Klimagarten\, Konrad-Wolf-Allee / Slatan-Dudow-Straße\, Potsdam\, 14480
ATTACH;FMTTYPE=image/jpeg:https://stern-drewitz.de/wp-content/uploads/sites/2/2025/04/Handarbeitscafe-Mai.jpg
END:VEVENT
BEGIN:VEVENT
DTSTART;TZID=Europe/Berlin:20250426T000000
DTEND;TZID=Europe/Berlin:20250426T235959
DTSTAMP:20260422T163544
CREATED:20250327T070823Z
LAST-MODIFIED:20250815T080506Z
UID:10000376-1745625600-1745711999@stern-drewitz.de
SUMMARY:Fotowettbewerb "Insekten"
DESCRIPTION:ab sofort bis zum 01. Oktober 2025Was summt und brummt\, was krabbelt und fliegt denn da? Macht mit bei unserem Fotowettbewerb zum Thema „Insekten“.Schick uns dein Foto bis zum 01. Oktober 2025 an team@wendeschleife-drewitz.de.Eine Jury entscheidet welche Fotos bei uns ausgestellt werden und einen Preis bekommen.Euer Team Wendeschleife \n\n\n\nBild von Team Wendeschleife
URL:https://stern-drewitz.de/veranstaltung/fotowettbewerb-insekten/2025-04-26/
LOCATION:Wendeschleife – Klimagarten\, Konrad-Wolf-Allee / Slatan-Dudow-Straße\, Potsdam\, 14480
ATTACH;FMTTYPE=image/jpeg:https://stern-drewitz.de/wp-content/uploads/sites/2/2025/03/Insekten-Bild-Team-Wendeschleife.jpg
END:VEVENT
BEGIN:VEVENT
DTSTART;TZID=Europe/Berlin:20250419T000000
DTEND;TZID=Europe/Berlin:20250419T235959
DTSTAMP:20260422T163544
CREATED:20250327T070823Z
LAST-MODIFIED:20250815T080506Z
UID:10000369-1745020800-1745107199@stern-drewitz.de
SUMMARY:Fotowettbewerb "Insekten"
DESCRIPTION:ab sofort bis zum 01. Oktober 2025Was summt und brummt\, was krabbelt und fliegt denn da? Macht mit bei unserem Fotowettbewerb zum Thema „Insekten“.Schick uns dein Foto bis zum 01. Oktober 2025 an team@wendeschleife-drewitz.de.Eine Jury entscheidet welche Fotos bei uns ausgestellt werden und einen Preis bekommen.Euer Team Wendeschleife \n\n\n\nBild von Team Wendeschleife
URL:https://stern-drewitz.de/veranstaltung/fotowettbewerb-insekten/2025-04-19/
LOCATION:Wendeschleife – Klimagarten\, Konrad-Wolf-Allee / Slatan-Dudow-Straße\, Potsdam\, 14480
ATTACH;FMTTYPE=image/jpeg:https://stern-drewitz.de/wp-content/uploads/sites/2/2025/03/Insekten-Bild-Team-Wendeschleife.jpg
END:VEVENT
BEGIN:VEVENT
DTSTART;TZID=Europe/Berlin:20250416T190000
DTEND;TZID=Europe/Berlin:20250416T203000
DTSTAMP:20260422T163544
CREATED:20250327T072759Z
LAST-MODIFIED:20250430T072633Z
UID:10000536-1744830000-1744835400@stern-drewitz.de
SUMMARY:Handarbeits-Café
DESCRIPTION:Mittwoch | 02.04./16.04. und 30.04. | 19:00- 20:30 Uhr | Kiezraum*Eine kleine Auszeit vom Alltag! An alle die sich gern bei Handarbeit entspannen oder etwas Neues ausprobieren möchten. In gemütlich-geselliger Runde könnt ihr euch bei netten Gesprächen in Sticken\, Häkeln\, Makramee & Co. ausprobieren und eurer Kreativität freien Lauf lassen. Materialien und Anregungen bringt die Referentin mit. Es gibt kein festes Programm – solltest du etwas ausprobieren wollen oder die Zeit suchen an einem bestehenden Projekt weiter zu arbeiten\, bist du herzlich eingeladen.Teilnahme: ab 18 JahreAnmeldungen: dringend erforderlichUnter: 0176 32388706\, team@wendeschleife-drewitz.de oder persönlich im BüroKosten: freiwilliger Unkostenbeitrag* Der Kiezraum befindet sich in der Konrad-Wolf-Allee 43/45 \n\n\n\nBild von congerdesign auf Pixabay
URL:https://stern-drewitz.de/veranstaltung/handarbeits-cafe/2025-04-16/
LOCATION:Wendeschleife – Klimagarten\, Konrad-Wolf-Allee / Slatan-Dudow-Straße\, Potsdam\, 14480
ATTACH;FMTTYPE=image/jpeg:https://stern-drewitz.de/wp-content/uploads/sites/2/2025/04/Handarbeitscafe-Mai.jpg
END:VEVENT
BEGIN:VEVENT
DTSTART;TZID=Europe/Berlin:20250412T000000
DTEND;TZID=Europe/Berlin:20250412T235959
DTSTAMP:20260422T163544
CREATED:20250327T070823Z
LAST-MODIFIED:20250815T080506Z
UID:10000362-1744416000-1744502399@stern-drewitz.de
SUMMARY:Fotowettbewerb "Insekten"
DESCRIPTION:ab sofort bis zum 01. Oktober 2025Was summt und brummt\, was krabbelt und fliegt denn da? Macht mit bei unserem Fotowettbewerb zum Thema „Insekten“.Schick uns dein Foto bis zum 01. Oktober 2025 an team@wendeschleife-drewitz.de.Eine Jury entscheidet welche Fotos bei uns ausgestellt werden und einen Preis bekommen.Euer Team Wendeschleife \n\n\n\nBild von Team Wendeschleife
URL:https://stern-drewitz.de/veranstaltung/fotowettbewerb-insekten/2025-04-12/
LOCATION:Wendeschleife – Klimagarten\, Konrad-Wolf-Allee / Slatan-Dudow-Straße\, Potsdam\, 14480
ATTACH;FMTTYPE=image/jpeg:https://stern-drewitz.de/wp-content/uploads/sites/2/2025/03/Insekten-Bild-Team-Wendeschleife.jpg
END:VEVENT
END:VCALENDAR