BEGIN:VCALENDAR
VERSION:2.0
PRODID:-//Stern-Drewitz - ECPv6.15.20//NONSGML v1.0//EN
CALSCALE:GREGORIAN
METHOD:PUBLISH
X-WR-CALNAME:Stern-Drewitz
X-ORIGINAL-URL:https://stern-drewitz.de
X-WR-CALDESC:Veranstaltungen für Stern-Drewitz
REFRESH-INTERVAL;VALUE=DURATION:PT1H
X-Robots-Tag:noindex
X-PUBLISHED-TTL:PT1H
BEGIN:VTIMEZONE
TZID:Europe/Berlin
BEGIN:DAYLIGHT
TZOFFSETFROM:+0100
TZOFFSETTO:+0200
TZNAME:CEST
DTSTART:20240331T010000
END:DAYLIGHT
BEGIN:STANDARD
TZOFFSETFROM:+0200
TZOFFSETTO:+0100
TZNAME:CET
DTSTART:20241027T010000
END:STANDARD
BEGIN:DAYLIGHT
TZOFFSETFROM:+0100
TZOFFSETTO:+0200
TZNAME:CEST
DTSTART:20250330T010000
END:DAYLIGHT
BEGIN:STANDARD
TZOFFSETFROM:+0200
TZOFFSETTO:+0100
TZNAME:CET
DTSTART:20251026T010000
END:STANDARD
BEGIN:DAYLIGHT
TZOFFSETFROM:+0100
TZOFFSETTO:+0200
TZNAME:CEST
DTSTART:20260329T010000
END:DAYLIGHT
BEGIN:STANDARD
TZOFFSETFROM:+0200
TZOFFSETTO:+0100
TZNAME:CET
DTSTART:20261025T010000
END:STANDARD
BEGIN:DAYLIGHT
TZOFFSETFROM:+0100
TZOFFSETTO:+0200
TZNAME:CEST
DTSTART:20270328T010000
END:DAYLIGHT
BEGIN:STANDARD
TZOFFSETFROM:+0200
TZOFFSETTO:+0100
TZNAME:CET
DTSTART:20271031T010000
END:STANDARD
END:VTIMEZONE
BEGIN:VEVENT
DTSTART;TZID=Europe/Berlin:20260402T143000
DTEND;TZID=Europe/Berlin:20260402T143000
DTSTAMP:20260422T130356
CREATED:20260309T084123Z
LAST-MODIFIED:20260309T092412Z
UID:10002594-1775140200-1775140200@stern-drewitz.de
SUMMARY:Ab in die Eier! Osterfeuer mit Livemusik
DESCRIPTION:Der Osterhase ist nicht mehr weit und wir heizen ihm nach einem kalten Winter schon etwas ein. Auf der Wendeschleife treffen wir uns zu feuriger Begegnung\, Gemütlichkeit und erweckenden\, musikalischen Klängen umsonst und draußen. \n\n\n\nDonnerstag\, 2.4.2026 | 14:30 Uhr | Klimagarten Wendeschleife
URL:https://stern-drewitz.de/veranstaltung/ab-in-die-eier-osterfeuer-mit-livemusik/
LOCATION:Wendeschleife – Klimagarten\, Konrad-Wolf-Allee / Slatan-Dudow-Straße\, Potsdam\, 14480
ORGANIZER;CN="oskar.DAS BEGEGNUNGSZENTRUM":MAILTO:info@oskar-drewitz.de
END:VEVENT
BEGIN:VEVENT
DTSTART;TZID=Europe/Berlin:20260314T100000
DTEND;TZID=Europe/Berlin:20260314T140000
DTSTAMP:20260422T130356
CREATED:20260313T073722Z
LAST-MODIFIED:20260313T073722Z
UID:10002870-1773482400-1773496800@stern-drewitz.de
SUMMARY:Frühjahrsputz in Drewitz mit den Potsdamer Plastikpiraten
DESCRIPTION:Dieses Jahr sagt Drewitz gemeinsam mit den Potsdamer Plastikpiraten dem Unrat den Kampf an. Sie können sich von 10:00 – 12:00 Uhr auf der Wendeschleife vor dem Bauwagen Müllsäcke\, Handschuhe und Greifer abholen und dann die Schmuddelecke Ihres Vertrauens vom Unrat befreien. \n\n\n\nIm oskar. wartet nach getaner Arbeit ein kräftigender Eintopf auf Sie und während des Frühjahrsputzes stehen gesunde Snacks und Getränke zur Stärkung bereit. Mal schauen\, wie voll wir den Container bekommen… \n\n\n\nSamstag | 14.03.2026 | 10:00 – 14:00 Uhr
URL:https://stern-drewitz.de/veranstaltung/fruehjahrsputz-in-drewitz-mit-den-potsdamer-plastikpiraten/
LOCATION:Wendeschleife – Klimagarten\, Konrad-Wolf-Allee / Slatan-Dudow-Straße\, Potsdam\, 14480
ORGANIZER;CN="Wendeschleife":MAILTO:team@wendeschleife-drewitz.de
END:VEVENT
BEGIN:VEVENT
DTSTART;TZID=Europe/Berlin:20251107T103000
DTEND;TZID=Europe/Berlin:20251107T120000
DTSTAMP:20260422T130356
CREATED:20241112T142018Z
LAST-MODIFIED:20251027T074853Z
UID:10000697-1762511400-1762516800@stern-drewitz.de
SUMMARY:Kiezspaziergang
DESCRIPTION:Wir laden Euch zu einem Spaziergang im Potsdamer Süden ein\, in dem vor allem die Stadtteile Drewitz\, Am Stern und Kirchsteigfeld entdeckt werden sollen. Lernt diese aus einer neuen Perspektive kennen und freut Euch auf eine Erholung für den Körper und erkenntnisreiche Informationen. Sei es zu der Natur\, den kulturellen Angeboten oder zu dem geschichtlichen Hintergrund. Lasst Euch überraschen! \n\n\n\nDie Teilnahme ist kostenfrei und für alle Altersgruppen gedacht! \n\n\n\nMit Anmeldung bis zum 6.11.2025! \n\n\n\nWir freuen uns auf Euch!
URL:https://stern-drewitz.de/veranstaltung/kiezspaziergang-3/2025-11-07/
LOCATION:Wendeschleife – Klimagarten\, Konrad-Wolf-Allee / Slatan-Dudow-Straße\, Potsdam\, 14480
ATTACH;FMTTYPE=image/jpeg:https://stern-drewitz.de/wp-content/uploads/sites/2/2024/05/1891221_663821130330862_1432883159_n-e1755251512675.jpg
ORGANIZER;CN="oskar.DAS BEGEGNUNGSZENTRUM":MAILTO:info@oskar-drewitz.de
END:VEVENT
BEGIN:VEVENT
DTSTART;TZID=Europe/Berlin:20250927T000000
DTEND;TZID=Europe/Berlin:20250927T235959
DTSTAMP:20260422T130356
CREATED:20250327T070823Z
LAST-MODIFIED:20250815T080506Z
UID:10000530-1758931200-1759017599@stern-drewitz.de
SUMMARY:Fotowettbewerb "Insekten"
DESCRIPTION:ab sofort bis zum 01. Oktober 2025Was summt und brummt\, was krabbelt und fliegt denn da? Macht mit bei unserem Fotowettbewerb zum Thema „Insekten“.Schick uns dein Foto bis zum 01. Oktober 2025 an team@wendeschleife-drewitz.de.Eine Jury entscheidet welche Fotos bei uns ausgestellt werden und einen Preis bekommen.Euer Team Wendeschleife \n\n\n\nBild von Team Wendeschleife
URL:https://stern-drewitz.de/veranstaltung/fotowettbewerb-insekten/2025-09-27/
LOCATION:Wendeschleife – Klimagarten\, Konrad-Wolf-Allee / Slatan-Dudow-Straße\, Potsdam\, 14480
ATTACH;FMTTYPE=image/jpeg:https://stern-drewitz.de/wp-content/uploads/sites/2/2025/03/Insekten-Bild-Team-Wendeschleife.jpg
END:VEVENT
BEGIN:VEVENT
DTSTART;TZID=Europe/Berlin:20250924T163000
DTEND;TZID=Europe/Berlin:20250924T180000
DTSTAMP:20260422T130356
CREATED:20250430T072124Z
LAST-MODIFIED:20250430T072125Z
UID:10000577-1758731400-1758736800@stern-drewitz.de
SUMMARY:Offenes Gärtnern
DESCRIPTION:So eine wunderbare Zeit im Garten! Alles ist frisch und im Entstehen. Also lasst uns gemeinsam loslegen. Alle sind herzlich eingeladen.Anmeldung: nicht notwendig
URL:https://stern-drewitz.de/veranstaltung/offenes-gaertnern-2/2025-09-24/
LOCATION:Wendeschleife – Klimagarten\, Konrad-Wolf-Allee / Slatan-Dudow-Straße\, Potsdam\, 14480
CATEGORIES:Wendeschleife
ATTACH;FMTTYPE=image/jpeg:https://stern-drewitz.de/wp-content/uploads/sites/2/2025/04/Wendeschleife-Offenes-Gaertnern.jpg
ORGANIZER;CN="Wendeschleife":MAILTO:team@wendeschleife-drewitz.de
END:VEVENT
BEGIN:VEVENT
DTSTART;TZID=Europe/Berlin:20250920T000000
DTEND;TZID=Europe/Berlin:20250920T235959
DTSTAMP:20260422T130356
CREATED:20250327T070823Z
LAST-MODIFIED:20250815T080506Z
UID:10000523-1758326400-1758412799@stern-drewitz.de
SUMMARY:Fotowettbewerb "Insekten"
DESCRIPTION:ab sofort bis zum 01. Oktober 2025Was summt und brummt\, was krabbelt und fliegt denn da? Macht mit bei unserem Fotowettbewerb zum Thema „Insekten“.Schick uns dein Foto bis zum 01. Oktober 2025 an team@wendeschleife-drewitz.de.Eine Jury entscheidet welche Fotos bei uns ausgestellt werden und einen Preis bekommen.Euer Team Wendeschleife \n\n\n\nBild von Team Wendeschleife
URL:https://stern-drewitz.de/veranstaltung/fotowettbewerb-insekten/2025-09-20/
LOCATION:Wendeschleife – Klimagarten\, Konrad-Wolf-Allee / Slatan-Dudow-Straße\, Potsdam\, 14480
ATTACH;FMTTYPE=image/jpeg:https://stern-drewitz.de/wp-content/uploads/sites/2/2025/03/Insekten-Bild-Team-Wendeschleife.jpg
END:VEVENT
BEGIN:VEVENT
DTSTART;TZID=Europe/Berlin:20250917T163000
DTEND;TZID=Europe/Berlin:20250917T180000
DTSTAMP:20260422T130356
CREATED:20250430T072124Z
LAST-MODIFIED:20250430T072125Z
UID:10000576-1758126600-1758132000@stern-drewitz.de
SUMMARY:Offenes Gärtnern
DESCRIPTION:So eine wunderbare Zeit im Garten! Alles ist frisch und im Entstehen. Also lasst uns gemeinsam loslegen. Alle sind herzlich eingeladen.Anmeldung: nicht notwendig
URL:https://stern-drewitz.de/veranstaltung/offenes-gaertnern-2/2025-09-17/
LOCATION:Wendeschleife – Klimagarten\, Konrad-Wolf-Allee / Slatan-Dudow-Straße\, Potsdam\, 14480
CATEGORIES:Wendeschleife
ATTACH;FMTTYPE=image/jpeg:https://stern-drewitz.de/wp-content/uploads/sites/2/2025/04/Wendeschleife-Offenes-Gaertnern.jpg
ORGANIZER;CN="Wendeschleife":MAILTO:team@wendeschleife-drewitz.de
END:VEVENT
BEGIN:VEVENT
DTSTART;TZID=Europe/Berlin:20250913T000000
DTEND;TZID=Europe/Berlin:20250913T235959
DTSTAMP:20260422T130356
CREATED:20250327T070823Z
LAST-MODIFIED:20250815T080506Z
UID:10000516-1757721600-1757807999@stern-drewitz.de
SUMMARY:Fotowettbewerb "Insekten"
DESCRIPTION:ab sofort bis zum 01. Oktober 2025Was summt und brummt\, was krabbelt und fliegt denn da? Macht mit bei unserem Fotowettbewerb zum Thema „Insekten“.Schick uns dein Foto bis zum 01. Oktober 2025 an team@wendeschleife-drewitz.de.Eine Jury entscheidet welche Fotos bei uns ausgestellt werden und einen Preis bekommen.Euer Team Wendeschleife \n\n\n\nBild von Team Wendeschleife
URL:https://stern-drewitz.de/veranstaltung/fotowettbewerb-insekten/2025-09-13/
LOCATION:Wendeschleife – Klimagarten\, Konrad-Wolf-Allee / Slatan-Dudow-Straße\, Potsdam\, 14480
ATTACH;FMTTYPE=image/jpeg:https://stern-drewitz.de/wp-content/uploads/sites/2/2025/03/Insekten-Bild-Team-Wendeschleife.jpg
END:VEVENT
BEGIN:VEVENT
DTSTART;TZID=Europe/Berlin:20250910T163000
DTEND;TZID=Europe/Berlin:20250910T180000
DTSTAMP:20260422T130356
CREATED:20250430T072124Z
LAST-MODIFIED:20250430T072125Z
UID:10000575-1757521800-1757527200@stern-drewitz.de
SUMMARY:Offenes Gärtnern
DESCRIPTION:So eine wunderbare Zeit im Garten! Alles ist frisch und im Entstehen. Also lasst uns gemeinsam loslegen. Alle sind herzlich eingeladen.Anmeldung: nicht notwendig
URL:https://stern-drewitz.de/veranstaltung/offenes-gaertnern-2/2025-09-10/
LOCATION:Wendeschleife – Klimagarten\, Konrad-Wolf-Allee / Slatan-Dudow-Straße\, Potsdam\, 14480
CATEGORIES:Wendeschleife
ATTACH;FMTTYPE=image/jpeg:https://stern-drewitz.de/wp-content/uploads/sites/2/2025/04/Wendeschleife-Offenes-Gaertnern.jpg
ORGANIZER;CN="Wendeschleife":MAILTO:team@wendeschleife-drewitz.de
END:VEVENT
BEGIN:VEVENT
DTSTART;TZID=Europe/Berlin:20250906T000000
DTEND;TZID=Europe/Berlin:20250906T235959
DTSTAMP:20260422T130356
CREATED:20250327T070823Z
LAST-MODIFIED:20250815T080506Z
UID:10000509-1757116800-1757203199@stern-drewitz.de
SUMMARY:Fotowettbewerb "Insekten"
DESCRIPTION:ab sofort bis zum 01. Oktober 2025Was summt und brummt\, was krabbelt und fliegt denn da? Macht mit bei unserem Fotowettbewerb zum Thema „Insekten“.Schick uns dein Foto bis zum 01. Oktober 2025 an team@wendeschleife-drewitz.de.Eine Jury entscheidet welche Fotos bei uns ausgestellt werden und einen Preis bekommen.Euer Team Wendeschleife \n\n\n\nBild von Team Wendeschleife
URL:https://stern-drewitz.de/veranstaltung/fotowettbewerb-insekten/2025-09-06/
LOCATION:Wendeschleife – Klimagarten\, Konrad-Wolf-Allee / Slatan-Dudow-Straße\, Potsdam\, 14480
ATTACH;FMTTYPE=image/jpeg:https://stern-drewitz.de/wp-content/uploads/sites/2/2025/03/Insekten-Bild-Team-Wendeschleife.jpg
END:VEVENT
BEGIN:VEVENT
DTSTART;TZID=Europe/Berlin:20250903T163000
DTEND;TZID=Europe/Berlin:20250903T180000
DTSTAMP:20260422T130356
CREATED:20250430T072124Z
LAST-MODIFIED:20250430T072125Z
UID:10000574-1756917000-1756922400@stern-drewitz.de
SUMMARY:Offenes Gärtnern
DESCRIPTION:So eine wunderbare Zeit im Garten! Alles ist frisch und im Entstehen. Also lasst uns gemeinsam loslegen. Alle sind herzlich eingeladen.Anmeldung: nicht notwendig
URL:https://stern-drewitz.de/veranstaltung/offenes-gaertnern-2/2025-09-03/
LOCATION:Wendeschleife – Klimagarten\, Konrad-Wolf-Allee / Slatan-Dudow-Straße\, Potsdam\, 14480
CATEGORIES:Wendeschleife
ATTACH;FMTTYPE=image/jpeg:https://stern-drewitz.de/wp-content/uploads/sites/2/2025/04/Wendeschleife-Offenes-Gaertnern.jpg
ORGANIZER;CN="Wendeschleife":MAILTO:team@wendeschleife-drewitz.de
END:VEVENT
BEGIN:VEVENT
DTSTART;TZID=Europe/Berlin:20250830T140000
DTEND;TZID=Europe/Berlin:20250830T220000
DTSTAMP:20260422T130356
CREATED:20250815T080121Z
LAST-MODIFIED:20250815T080612Z
UID:10000677-1756562400-1756591200@stern-drewitz.de
SUMMARY:Rock am Löschteich
DESCRIPTION:Zum 10. Mal laden wir alle Musikbegeisterten ein\, sich die wildesten Stoner-\, Psychedelic-\, Blues-Klänge am Wasser des Löschteiches in Drewitz um die Ohren tanzen zu lassen. In netter Atmosphäre könnt ihr hier kostenfrei erstklassige Bands entdecken. Im Vorfeld gibt es noch eine Performance von Concrete 101 mit dem Stück Entre Deux.  In diesem Stück folgt das Publikum zwei Protagonist*innen in einem akrobatischen Tanz beim Vermessen ihrer Möglichkeiten\, beim Umarmen von Gelegenheiten\, beim Ausloten ihrer Grenzen und beim Balancieren ihrer Wünsche. Dafür verwandeln sie eine Tischtennisplatte\, ein omnipräsentes urbanes Objekt im öffentlichen Raum\, zu ihrer 360-Grad-Bühne\, und bespielen sie mit Elementen aus Art du Déplacement\, Tanz\, Partnering und Body Percussion. \n\n\n\nAuf der Musikbühne erwarten euch: Auralis\, Glooom\, Red Ocean\, YEAHRS !
URL:https://stern-drewitz.de/veranstaltung/rock-am-loeschteich/
LOCATION:Wendeschleife – Klimagarten\, Konrad-Wolf-Allee / Slatan-Dudow-Straße\, Potsdam\, 14480
ATTACH;FMTTYPE=image/jpeg:https://stern-drewitz.de/wp-content/uploads/sites/2/2025/08/Rock-am-Loeschteich-e1755251019403.jpg
ORGANIZER;CN="oskar.DAS BEGEGNUNGSZENTRUM":MAILTO:info@oskar-drewitz.de
END:VEVENT
BEGIN:VEVENT
DTSTART;TZID=Europe/Berlin:20250830T000000
DTEND;TZID=Europe/Berlin:20250830T235959
DTSTAMP:20260422T130356
CREATED:20250327T070823Z
LAST-MODIFIED:20250815T080506Z
UID:10000502-1756512000-1756598399@stern-drewitz.de
SUMMARY:Fotowettbewerb "Insekten"
DESCRIPTION:ab sofort bis zum 01. Oktober 2025Was summt und brummt\, was krabbelt und fliegt denn da? Macht mit bei unserem Fotowettbewerb zum Thema „Insekten“.Schick uns dein Foto bis zum 01. Oktober 2025 an team@wendeschleife-drewitz.de.Eine Jury entscheidet welche Fotos bei uns ausgestellt werden und einen Preis bekommen.Euer Team Wendeschleife \n\n\n\nBild von Team Wendeschleife
URL:https://stern-drewitz.de/veranstaltung/fotowettbewerb-insekten/2025-08-30/
LOCATION:Wendeschleife – Klimagarten\, Konrad-Wolf-Allee / Slatan-Dudow-Straße\, Potsdam\, 14480
ATTACH;FMTTYPE=image/jpeg:https://stern-drewitz.de/wp-content/uploads/sites/2/2025/03/Insekten-Bild-Team-Wendeschleife.jpg
END:VEVENT
BEGIN:VEVENT
DTSTART;TZID=Europe/Berlin:20250827T163000
DTEND;TZID=Europe/Berlin:20250827T180000
DTSTAMP:20260422T130356
CREATED:20250430T072124Z
LAST-MODIFIED:20250430T072125Z
UID:10000573-1756312200-1756317600@stern-drewitz.de
SUMMARY:Offenes Gärtnern
DESCRIPTION:So eine wunderbare Zeit im Garten! Alles ist frisch und im Entstehen. Also lasst uns gemeinsam loslegen. Alle sind herzlich eingeladen.Anmeldung: nicht notwendig
URL:https://stern-drewitz.de/veranstaltung/offenes-gaertnern-2/2025-08-27/
LOCATION:Wendeschleife – Klimagarten\, Konrad-Wolf-Allee / Slatan-Dudow-Straße\, Potsdam\, 14480
CATEGORIES:Wendeschleife
ATTACH;FMTTYPE=image/jpeg:https://stern-drewitz.de/wp-content/uploads/sites/2/2025/04/Wendeschleife-Offenes-Gaertnern.jpg
ORGANIZER;CN="Wendeschleife":MAILTO:team@wendeschleife-drewitz.de
END:VEVENT
BEGIN:VEVENT
DTSTART;TZID=Europe/Berlin:20250823T000000
DTEND;TZID=Europe/Berlin:20250823T235959
DTSTAMP:20260422T130356
CREATED:20250327T070823Z
LAST-MODIFIED:20250815T080506Z
UID:10000495-1755907200-1755993599@stern-drewitz.de
SUMMARY:Fotowettbewerb "Insekten"
DESCRIPTION:ab sofort bis zum 01. Oktober 2025Was summt und brummt\, was krabbelt und fliegt denn da? Macht mit bei unserem Fotowettbewerb zum Thema „Insekten“.Schick uns dein Foto bis zum 01. Oktober 2025 an team@wendeschleife-drewitz.de.Eine Jury entscheidet welche Fotos bei uns ausgestellt werden und einen Preis bekommen.Euer Team Wendeschleife \n\n\n\nBild von Team Wendeschleife
URL:https://stern-drewitz.de/veranstaltung/fotowettbewerb-insekten/2025-08-23/
LOCATION:Wendeschleife – Klimagarten\, Konrad-Wolf-Allee / Slatan-Dudow-Straße\, Potsdam\, 14480
ATTACH;FMTTYPE=image/jpeg:https://stern-drewitz.de/wp-content/uploads/sites/2/2025/03/Insekten-Bild-Team-Wendeschleife.jpg
END:VEVENT
BEGIN:VEVENT
DTSTART;TZID=Europe/Berlin:20250820T163000
DTEND;TZID=Europe/Berlin:20250820T180000
DTSTAMP:20260422T130356
CREATED:20250430T072124Z
LAST-MODIFIED:20250430T072125Z
UID:10000572-1755707400-1755712800@stern-drewitz.de
SUMMARY:Offenes Gärtnern
DESCRIPTION:So eine wunderbare Zeit im Garten! Alles ist frisch und im Entstehen. Also lasst uns gemeinsam loslegen. Alle sind herzlich eingeladen.Anmeldung: nicht notwendig
URL:https://stern-drewitz.de/veranstaltung/offenes-gaertnern-2/2025-08-20/
LOCATION:Wendeschleife – Klimagarten\, Konrad-Wolf-Allee / Slatan-Dudow-Straße\, Potsdam\, 14480
CATEGORIES:Wendeschleife
ATTACH;FMTTYPE=image/jpeg:https://stern-drewitz.de/wp-content/uploads/sites/2/2025/04/Wendeschleife-Offenes-Gaertnern.jpg
ORGANIZER;CN="Wendeschleife":MAILTO:team@wendeschleife-drewitz.de
END:VEVENT
BEGIN:VEVENT
DTSTART;TZID=Europe/Berlin:20250816T000000
DTEND;TZID=Europe/Berlin:20250816T235959
DTSTAMP:20260422T130356
CREATED:20250327T070823Z
LAST-MODIFIED:20250815T080506Z
UID:10000488-1755302400-1755388799@stern-drewitz.de
SUMMARY:Fotowettbewerb "Insekten"
DESCRIPTION:ab sofort bis zum 01. Oktober 2025Was summt und brummt\, was krabbelt und fliegt denn da? Macht mit bei unserem Fotowettbewerb zum Thema „Insekten“.Schick uns dein Foto bis zum 01. Oktober 2025 an team@wendeschleife-drewitz.de.Eine Jury entscheidet welche Fotos bei uns ausgestellt werden und einen Preis bekommen.Euer Team Wendeschleife \n\n\n\nBild von Team Wendeschleife
URL:https://stern-drewitz.de/veranstaltung/fotowettbewerb-insekten/2025-08-16/
LOCATION:Wendeschleife – Klimagarten\, Konrad-Wolf-Allee / Slatan-Dudow-Straße\, Potsdam\, 14480
ATTACH;FMTTYPE=image/jpeg:https://stern-drewitz.de/wp-content/uploads/sites/2/2025/03/Insekten-Bild-Team-Wendeschleife.jpg
END:VEVENT
BEGIN:VEVENT
DTSTART;TZID=Europe/Berlin:20250813T163000
DTEND;TZID=Europe/Berlin:20250813T180000
DTSTAMP:20260422T130356
CREATED:20250430T072124Z
LAST-MODIFIED:20250430T072125Z
UID:10000571-1755102600-1755108000@stern-drewitz.de
SUMMARY:Offenes Gärtnern
DESCRIPTION:So eine wunderbare Zeit im Garten! Alles ist frisch und im Entstehen. Also lasst uns gemeinsam loslegen. Alle sind herzlich eingeladen.Anmeldung: nicht notwendig
URL:https://stern-drewitz.de/veranstaltung/offenes-gaertnern-2/2025-08-13/
LOCATION:Wendeschleife – Klimagarten\, Konrad-Wolf-Allee / Slatan-Dudow-Straße\, Potsdam\, 14480
CATEGORIES:Wendeschleife
ATTACH;FMTTYPE=image/jpeg:https://stern-drewitz.de/wp-content/uploads/sites/2/2025/04/Wendeschleife-Offenes-Gaertnern.jpg
ORGANIZER;CN="Wendeschleife":MAILTO:team@wendeschleife-drewitz.de
END:VEVENT
BEGIN:VEVENT
DTSTART;TZID=Europe/Berlin:20250809T000000
DTEND;TZID=Europe/Berlin:20250809T235959
DTSTAMP:20260422T130356
CREATED:20250327T070823Z
LAST-MODIFIED:20250815T080506Z
UID:10000481-1754697600-1754783999@stern-drewitz.de
SUMMARY:Fotowettbewerb "Insekten"
DESCRIPTION:ab sofort bis zum 01. Oktober 2025Was summt und brummt\, was krabbelt und fliegt denn da? Macht mit bei unserem Fotowettbewerb zum Thema „Insekten“.Schick uns dein Foto bis zum 01. Oktober 2025 an team@wendeschleife-drewitz.de.Eine Jury entscheidet welche Fotos bei uns ausgestellt werden und einen Preis bekommen.Euer Team Wendeschleife \n\n\n\nBild von Team Wendeschleife
URL:https://stern-drewitz.de/veranstaltung/fotowettbewerb-insekten/2025-08-09/
LOCATION:Wendeschleife – Klimagarten\, Konrad-Wolf-Allee / Slatan-Dudow-Straße\, Potsdam\, 14480
ATTACH;FMTTYPE=image/jpeg:https://stern-drewitz.de/wp-content/uploads/sites/2/2025/03/Insekten-Bild-Team-Wendeschleife.jpg
END:VEVENT
BEGIN:VEVENT
DTSTART;TZID=Europe/Berlin:20250806T163000
DTEND;TZID=Europe/Berlin:20250806T180000
DTSTAMP:20260422T130356
CREATED:20250430T072124Z
LAST-MODIFIED:20250430T072125Z
UID:10000570-1754497800-1754503200@stern-drewitz.de
SUMMARY:Offenes Gärtnern
DESCRIPTION:So eine wunderbare Zeit im Garten! Alles ist frisch und im Entstehen. Also lasst uns gemeinsam loslegen. Alle sind herzlich eingeladen.Anmeldung: nicht notwendig
URL:https://stern-drewitz.de/veranstaltung/offenes-gaertnern-2/2025-08-06/
LOCATION:Wendeschleife – Klimagarten\, Konrad-Wolf-Allee / Slatan-Dudow-Straße\, Potsdam\, 14480
CATEGORIES:Wendeschleife
ATTACH;FMTTYPE=image/jpeg:https://stern-drewitz.de/wp-content/uploads/sites/2/2025/04/Wendeschleife-Offenes-Gaertnern.jpg
ORGANIZER;CN="Wendeschleife":MAILTO:team@wendeschleife-drewitz.de
END:VEVENT
BEGIN:VEVENT
DTSTART;TZID=Europe/Berlin:20250802T000000
DTEND;TZID=Europe/Berlin:20250802T235959
DTSTAMP:20260422T130356
CREATED:20250327T070823Z
LAST-MODIFIED:20250815T080506Z
UID:10000474-1754092800-1754179199@stern-drewitz.de
SUMMARY:Fotowettbewerb "Insekten"
DESCRIPTION:ab sofort bis zum 01. Oktober 2025Was summt und brummt\, was krabbelt und fliegt denn da? Macht mit bei unserem Fotowettbewerb zum Thema „Insekten“.Schick uns dein Foto bis zum 01. Oktober 2025 an team@wendeschleife-drewitz.de.Eine Jury entscheidet welche Fotos bei uns ausgestellt werden und einen Preis bekommen.Euer Team Wendeschleife \n\n\n\nBild von Team Wendeschleife
URL:https://stern-drewitz.de/veranstaltung/fotowettbewerb-insekten/2025-08-02/
LOCATION:Wendeschleife – Klimagarten\, Konrad-Wolf-Allee / Slatan-Dudow-Straße\, Potsdam\, 14480
ATTACH;FMTTYPE=image/jpeg:https://stern-drewitz.de/wp-content/uploads/sites/2/2025/03/Insekten-Bild-Team-Wendeschleife.jpg
END:VEVENT
BEGIN:VEVENT
DTSTART;TZID=Europe/Berlin:20250730T163000
DTEND;TZID=Europe/Berlin:20250730T180000
DTSTAMP:20260422T130356
CREATED:20250430T072124Z
LAST-MODIFIED:20250430T072125Z
UID:10000569-1753893000-1753898400@stern-drewitz.de
SUMMARY:Offenes Gärtnern
DESCRIPTION:So eine wunderbare Zeit im Garten! Alles ist frisch und im Entstehen. Also lasst uns gemeinsam loslegen. Alle sind herzlich eingeladen.Anmeldung: nicht notwendig
URL:https://stern-drewitz.de/veranstaltung/offenes-gaertnern-2/2025-07-30/
LOCATION:Wendeschleife – Klimagarten\, Konrad-Wolf-Allee / Slatan-Dudow-Straße\, Potsdam\, 14480
CATEGORIES:Wendeschleife
ATTACH;FMTTYPE=image/jpeg:https://stern-drewitz.de/wp-content/uploads/sites/2/2025/04/Wendeschleife-Offenes-Gaertnern.jpg
ORGANIZER;CN="Wendeschleife":MAILTO:team@wendeschleife-drewitz.de
END:VEVENT
BEGIN:VEVENT
DTSTART;TZID=Europe/Berlin:20250726T000000
DTEND;TZID=Europe/Berlin:20250726T235959
DTSTAMP:20260422T130356
CREATED:20250327T070823Z
LAST-MODIFIED:20250815T080506Z
UID:10000467-1753488000-1753574399@stern-drewitz.de
SUMMARY:Fotowettbewerb "Insekten"
DESCRIPTION:ab sofort bis zum 01. Oktober 2025Was summt und brummt\, was krabbelt und fliegt denn da? Macht mit bei unserem Fotowettbewerb zum Thema „Insekten“.Schick uns dein Foto bis zum 01. Oktober 2025 an team@wendeschleife-drewitz.de.Eine Jury entscheidet welche Fotos bei uns ausgestellt werden und einen Preis bekommen.Euer Team Wendeschleife \n\n\n\nBild von Team Wendeschleife
URL:https://stern-drewitz.de/veranstaltung/fotowettbewerb-insekten/2025-07-26/
LOCATION:Wendeschleife – Klimagarten\, Konrad-Wolf-Allee / Slatan-Dudow-Straße\, Potsdam\, 14480
ATTACH;FMTTYPE=image/jpeg:https://stern-drewitz.de/wp-content/uploads/sites/2/2025/03/Insekten-Bild-Team-Wendeschleife.jpg
END:VEVENT
BEGIN:VEVENT
DTSTART;TZID=Europe/Berlin:20250723T163000
DTEND;TZID=Europe/Berlin:20250723T180000
DTSTAMP:20260422T130356
CREATED:20250430T072124Z
LAST-MODIFIED:20250430T072125Z
UID:10000568-1753288200-1753293600@stern-drewitz.de
SUMMARY:Offenes Gärtnern
DESCRIPTION:So eine wunderbare Zeit im Garten! Alles ist frisch und im Entstehen. Also lasst uns gemeinsam loslegen. Alle sind herzlich eingeladen.Anmeldung: nicht notwendig
URL:https://stern-drewitz.de/veranstaltung/offenes-gaertnern-2/2025-07-23/
LOCATION:Wendeschleife – Klimagarten\, Konrad-Wolf-Allee / Slatan-Dudow-Straße\, Potsdam\, 14480
CATEGORIES:Wendeschleife
ATTACH;FMTTYPE=image/jpeg:https://stern-drewitz.de/wp-content/uploads/sites/2/2025/04/Wendeschleife-Offenes-Gaertnern.jpg
ORGANIZER;CN="Wendeschleife":MAILTO:team@wendeschleife-drewitz.de
END:VEVENT
BEGIN:VEVENT
DTSTART;TZID=Europe/Berlin:20250719T000000
DTEND;TZID=Europe/Berlin:20250719T235959
DTSTAMP:20260422T130356
CREATED:20250327T070823Z
LAST-MODIFIED:20250815T080506Z
UID:10000460-1752883200-1752969599@stern-drewitz.de
SUMMARY:Fotowettbewerb "Insekten"
DESCRIPTION:ab sofort bis zum 01. Oktober 2025Was summt und brummt\, was krabbelt und fliegt denn da? Macht mit bei unserem Fotowettbewerb zum Thema „Insekten“.Schick uns dein Foto bis zum 01. Oktober 2025 an team@wendeschleife-drewitz.de.Eine Jury entscheidet welche Fotos bei uns ausgestellt werden und einen Preis bekommen.Euer Team Wendeschleife \n\n\n\nBild von Team Wendeschleife
URL:https://stern-drewitz.de/veranstaltung/fotowettbewerb-insekten/2025-07-19/
LOCATION:Wendeschleife – Klimagarten\, Konrad-Wolf-Allee / Slatan-Dudow-Straße\, Potsdam\, 14480
ATTACH;FMTTYPE=image/jpeg:https://stern-drewitz.de/wp-content/uploads/sites/2/2025/03/Insekten-Bild-Team-Wendeschleife.jpg
END:VEVENT
BEGIN:VEVENT
DTSTART;TZID=Europe/Berlin:20250716T163000
DTEND;TZID=Europe/Berlin:20250716T180000
DTSTAMP:20260422T130356
CREATED:20250430T072124Z
LAST-MODIFIED:20250430T072125Z
UID:10000567-1752683400-1752688800@stern-drewitz.de
SUMMARY:Offenes Gärtnern
DESCRIPTION:So eine wunderbare Zeit im Garten! Alles ist frisch und im Entstehen. Also lasst uns gemeinsam loslegen. Alle sind herzlich eingeladen.Anmeldung: nicht notwendig
URL:https://stern-drewitz.de/veranstaltung/offenes-gaertnern-2/2025-07-16/
LOCATION:Wendeschleife – Klimagarten\, Konrad-Wolf-Allee / Slatan-Dudow-Straße\, Potsdam\, 14480
CATEGORIES:Wendeschleife
ATTACH;FMTTYPE=image/jpeg:https://stern-drewitz.de/wp-content/uploads/sites/2/2025/04/Wendeschleife-Offenes-Gaertnern.jpg
ORGANIZER;CN="Wendeschleife":MAILTO:team@wendeschleife-drewitz.de
END:VEVENT
BEGIN:VEVENT
DTSTART;TZID=Europe/Berlin:20250712T000000
DTEND;TZID=Europe/Berlin:20250712T235959
DTSTAMP:20260422T130356
CREATED:20250327T070823Z
LAST-MODIFIED:20250815T080506Z
UID:10000453-1752278400-1752364799@stern-drewitz.de
SUMMARY:Fotowettbewerb "Insekten"
DESCRIPTION:ab sofort bis zum 01. Oktober 2025Was summt und brummt\, was krabbelt und fliegt denn da? Macht mit bei unserem Fotowettbewerb zum Thema „Insekten“.Schick uns dein Foto bis zum 01. Oktober 2025 an team@wendeschleife-drewitz.de.Eine Jury entscheidet welche Fotos bei uns ausgestellt werden und einen Preis bekommen.Euer Team Wendeschleife \n\n\n\nBild von Team Wendeschleife
URL:https://stern-drewitz.de/veranstaltung/fotowettbewerb-insekten/2025-07-12/
LOCATION:Wendeschleife – Klimagarten\, Konrad-Wolf-Allee / Slatan-Dudow-Straße\, Potsdam\, 14480
ATTACH;FMTTYPE=image/jpeg:https://stern-drewitz.de/wp-content/uploads/sites/2/2025/03/Insekten-Bild-Team-Wendeschleife.jpg
END:VEVENT
BEGIN:VEVENT
DTSTART;TZID=Europe/Berlin:20250709T163000
DTEND;TZID=Europe/Berlin:20250709T180000
DTSTAMP:20260422T130356
CREATED:20250430T072124Z
LAST-MODIFIED:20250430T072125Z
UID:10000566-1752078600-1752084000@stern-drewitz.de
SUMMARY:Offenes Gärtnern
DESCRIPTION:So eine wunderbare Zeit im Garten! Alles ist frisch und im Entstehen. Also lasst uns gemeinsam loslegen. Alle sind herzlich eingeladen.Anmeldung: nicht notwendig
URL:https://stern-drewitz.de/veranstaltung/offenes-gaertnern-2/2025-07-09/
LOCATION:Wendeschleife – Klimagarten\, Konrad-Wolf-Allee / Slatan-Dudow-Straße\, Potsdam\, 14480
CATEGORIES:Wendeschleife
ATTACH;FMTTYPE=image/jpeg:https://stern-drewitz.de/wp-content/uploads/sites/2/2025/04/Wendeschleife-Offenes-Gaertnern.jpg
ORGANIZER;CN="Wendeschleife":MAILTO:team@wendeschleife-drewitz.de
END:VEVENT
BEGIN:VEVENT
DTSTART;TZID=Europe/Berlin:20250705T000000
DTEND;TZID=Europe/Berlin:20250705T235959
DTSTAMP:20260422T130356
CREATED:20250327T070823Z
LAST-MODIFIED:20250815T080506Z
UID:10000446-1751673600-1751759999@stern-drewitz.de
SUMMARY:Fotowettbewerb "Insekten"
DESCRIPTION:ab sofort bis zum 01. Oktober 2025Was summt und brummt\, was krabbelt und fliegt denn da? Macht mit bei unserem Fotowettbewerb zum Thema „Insekten“.Schick uns dein Foto bis zum 01. Oktober 2025 an team@wendeschleife-drewitz.de.Eine Jury entscheidet welche Fotos bei uns ausgestellt werden und einen Preis bekommen.Euer Team Wendeschleife \n\n\n\nBild von Team Wendeschleife
URL:https://stern-drewitz.de/veranstaltung/fotowettbewerb-insekten/2025-07-05/
LOCATION:Wendeschleife – Klimagarten\, Konrad-Wolf-Allee / Slatan-Dudow-Straße\, Potsdam\, 14480
ATTACH;FMTTYPE=image/jpeg:https://stern-drewitz.de/wp-content/uploads/sites/2/2025/03/Insekten-Bild-Team-Wendeschleife.jpg
END:VEVENT
BEGIN:VEVENT
DTSTART;TZID=Europe/Berlin:20250702T163000
DTEND;TZID=Europe/Berlin:20250702T180000
DTSTAMP:20260422T130356
CREATED:20250430T072124Z
LAST-MODIFIED:20250430T072125Z
UID:10000565-1751473800-1751479200@stern-drewitz.de
SUMMARY:Offenes Gärtnern
DESCRIPTION:So eine wunderbare Zeit im Garten! Alles ist frisch und im Entstehen. Also lasst uns gemeinsam loslegen. Alle sind herzlich eingeladen.Anmeldung: nicht notwendig
URL:https://stern-drewitz.de/veranstaltung/offenes-gaertnern-2/2025-07-02/
LOCATION:Wendeschleife – Klimagarten\, Konrad-Wolf-Allee / Slatan-Dudow-Straße\, Potsdam\, 14480
CATEGORIES:Wendeschleife
ATTACH;FMTTYPE=image/jpeg:https://stern-drewitz.de/wp-content/uploads/sites/2/2025/04/Wendeschleife-Offenes-Gaertnern.jpg
ORGANIZER;CN="Wendeschleife":MAILTO:team@wendeschleife-drewitz.de
END:VEVENT
END:VCALENDAR