BEGIN:VCALENDAR
VERSION:2.0
PRODID:-//Stern-Drewitz - ECPv6.15.20//NONSGML v1.0//EN
CALSCALE:GREGORIAN
METHOD:PUBLISH
X-WR-CALNAME:Stern-Drewitz
X-ORIGINAL-URL:https://stern-drewitz.de
X-WR-CALDESC:Veranstaltungen für Stern-Drewitz
REFRESH-INTERVAL;VALUE=DURATION:PT1H
X-Robots-Tag:noindex
X-PUBLISHED-TTL:PT1H
BEGIN:VTIMEZONE
TZID:Europe/Berlin
BEGIN:DAYLIGHT
TZOFFSETFROM:+0100
TZOFFSETTO:+0200
TZNAME:CEST
DTSTART:20230326T010000
END:DAYLIGHT
BEGIN:STANDARD
TZOFFSETFROM:+0200
TZOFFSETTO:+0100
TZNAME:CET
DTSTART:20231029T010000
END:STANDARD
BEGIN:DAYLIGHT
TZOFFSETFROM:+0100
TZOFFSETTO:+0200
TZNAME:CEST
DTSTART:20240331T010000
END:DAYLIGHT
BEGIN:STANDARD
TZOFFSETFROM:+0200
TZOFFSETTO:+0100
TZNAME:CET
DTSTART:20241027T010000
END:STANDARD
BEGIN:DAYLIGHT
TZOFFSETFROM:+0100
TZOFFSETTO:+0200
TZNAME:CEST
DTSTART:20250330T010000
END:DAYLIGHT
BEGIN:STANDARD
TZOFFSETFROM:+0200
TZOFFSETTO:+0100
TZNAME:CET
DTSTART:20251026T010000
END:STANDARD
BEGIN:DAYLIGHT
TZOFFSETFROM:+0100
TZOFFSETTO:+0200
TZNAME:CEST
DTSTART:20260329T010000
END:DAYLIGHT
BEGIN:STANDARD
TZOFFSETFROM:+0200
TZOFFSETTO:+0100
TZNAME:CET
DTSTART:20261025T010000
END:STANDARD
END:VTIMEZONE
BEGIN:VEVENT
DTSTART;TZID=Europe/Berlin:20250518T130000
DTEND;TZID=Europe/Berlin:20250518T130000
DTSTAMP:20260422T180451
CREATED:20250506T090508Z
LAST-MODIFIED:20250506T090509Z
UID:10000667-1747573200-1747573200@stern-drewitz.de
SUMMARY:Rumänisch-Club
DESCRIPTION:
URL:https://stern-drewitz.de/veranstaltung/rumaenisch-club/2025-05-18/
LOCATION:Kiezraum Drewitz\, Konrad-Wolf-Allee 43/45\, Potsdam\, 14482
ATTACH;FMTTYPE=image/png:https://stern-drewitz.de/wp-content/uploads/sites/2/2025/05/romania-653162_640.png
END:VEVENT
BEGIN:VEVENT
DTSTART;TZID=Europe/Berlin:20250516T140000
DTEND;TZID=Europe/Berlin:20250516T140000
DTSTAMP:20260422T180451
CREATED:20250506T085727Z
LAST-MODIFIED:20250506T085803Z
UID:10000657-1747404000-1747404000@stern-drewitz.de
SUMMARY:SpielPlausch (Senior*innen)
DESCRIPTION:Jeden Freitagnachmittag gibt’s das nachbarschaftliche Treffen im Kiezraum in der Konrad-Wolf-Allee 43/45 (Rückseite) \n\n\n\nDer SpielPlausch ist offen für jede und jeden.
URL:https://stern-drewitz.de/veranstaltung/spielplausch-seniorinnen/2025-05-16/
LOCATION:Kiezraum Drewitz\, Konrad-Wolf-Allee 43/45\, Potsdam\, 14482
ATTACH;FMTTYPE=image/jpeg:https://stern-drewitz.de/wp-content/uploads/sites/2/2025/05/table-597177_640.jpg
END:VEVENT
BEGIN:VEVENT
DTSTART;TZID=Europe/Berlin:20250511T130000
DTEND;TZID=Europe/Berlin:20250511T130000
DTSTAMP:20260422T180451
CREATED:20250506T090508Z
LAST-MODIFIED:20250506T090509Z
UID:10000666-1746968400-1746968400@stern-drewitz.de
SUMMARY:Rumänisch-Club
DESCRIPTION:
URL:https://stern-drewitz.de/veranstaltung/rumaenisch-club/2025-05-11/
LOCATION:Kiezraum Drewitz\, Konrad-Wolf-Allee 43/45\, Potsdam\, 14482
ATTACH;FMTTYPE=image/png:https://stern-drewitz.de/wp-content/uploads/sites/2/2025/05/romania-653162_640.png
END:VEVENT
BEGIN:VEVENT
DTSTART;TZID=Europe/Berlin:20250509T140000
DTEND;TZID=Europe/Berlin:20250509T140000
DTSTAMP:20260422T180451
CREATED:20250506T085727Z
LAST-MODIFIED:20250506T085803Z
UID:10000656-1746799200-1746799200@stern-drewitz.de
SUMMARY:SpielPlausch (Senior*innen)
DESCRIPTION:Jeden Freitagnachmittag gibt’s das nachbarschaftliche Treffen im Kiezraum in der Konrad-Wolf-Allee 43/45 (Rückseite) \n\n\n\nDer SpielPlausch ist offen für jede und jeden.
URL:https://stern-drewitz.de/veranstaltung/spielplausch-seniorinnen/2025-05-09/
LOCATION:Kiezraum Drewitz\, Konrad-Wolf-Allee 43/45\, Potsdam\, 14482
ATTACH;FMTTYPE=image/jpeg:https://stern-drewitz.de/wp-content/uploads/sites/2/2025/05/table-597177_640.jpg
END:VEVENT
BEGIN:VEVENT
DTSTART;TZID=Europe/Berlin:20241127T190000
DTEND;TZID=Europe/Berlin:20241127T203000
DTSTAMP:20260422T180451
CREATED:20241022T084214Z
LAST-MODIFIED:20241022T084243Z
UID:10000302-1732734000-1732739400@stern-drewitz.de
SUMMARY:Handarbeits-Café
DESCRIPTION:Eine kleine Auszeit vom Alltag! An alle die sich gern bei Handarbeit entspannen oder etwas Neues ausprobieren möchten. In gemütlich-geselliger Runde könnt ihr euch bei netten Gesprächen in Sticken\, Häkeln\, Makramee & Co. ausprobieren und eurer Kreativität freien Lauf lassen. Materialien und Anregungen bringt die Referentin mit. Es gibt kein festes Programm – solltest du etwas ausprobieren wollen oder die Zeit suchen an einem bestehenden Projekt weiter zu arbeiten\, bist du herzlich eingeladen.    Teilnahme: ab 18 Jahre \n\n\n\nAnmeldungen: dringend erforderlich \n\n\n\nDie Veranstaltung findet im Kiezraum Drewitz statt.
URL:https://stern-drewitz.de/veranstaltung/1678/2024-11-27/
LOCATION:Kiezraum Drewitz\, Konrad-Wolf-Allee 43/45\, Potsdam\, 14482
ATTACH;FMTTYPE=image/jpeg:https://stern-drewitz.de/wp-content/uploads/sites/2/2024/10/HandarbeitsCafe.jpg
ORGANIZER;CN="Wendeschleife":MAILTO:team@wendeschleife-drewitz.de
END:VEVENT
BEGIN:VEVENT
DTSTART;TZID=Europe/Berlin:20241113T190000
DTEND;TZID=Europe/Berlin:20241113T203000
DTSTAMP:20260422T180451
CREATED:20241022T084214Z
LAST-MODIFIED:20241022T084243Z
UID:10000301-1731524400-1731529800@stern-drewitz.de
SUMMARY:Handarbeits-Café
DESCRIPTION:Eine kleine Auszeit vom Alltag! An alle die sich gern bei Handarbeit entspannen oder etwas Neues ausprobieren möchten. In gemütlich-geselliger Runde könnt ihr euch bei netten Gesprächen in Sticken\, Häkeln\, Makramee & Co. ausprobieren und eurer Kreativität freien Lauf lassen. Materialien und Anregungen bringt die Referentin mit. Es gibt kein festes Programm – solltest du etwas ausprobieren wollen oder die Zeit suchen an einem bestehenden Projekt weiter zu arbeiten\, bist du herzlich eingeladen.    Teilnahme: ab 18 Jahre \n\n\n\nAnmeldungen: dringend erforderlich \n\n\n\nDie Veranstaltung findet im Kiezraum Drewitz statt.
URL:https://stern-drewitz.de/veranstaltung/1678/2024-11-13/
LOCATION:Kiezraum Drewitz\, Konrad-Wolf-Allee 43/45\, Potsdam\, 14482
ATTACH;FMTTYPE=image/jpeg:https://stern-drewitz.de/wp-content/uploads/sites/2/2024/10/HandarbeitsCafe.jpg
ORGANIZER;CN="Wendeschleife":MAILTO:team@wendeschleife-drewitz.de
END:VEVENT
BEGIN:VEVENT
DTSTART;TZID=Europe/Berlin:20241024T180000
DTEND;TZID=Europe/Berlin:20241024T200000
DTSTAMP:20260422T180451
CREATED:20241017T055709Z
LAST-MODIFIED:20241017T055710Z
UID:10000296-1729792800-1729800000@stern-drewitz.de
SUMMARY:Musikalische Lesung "Semikolon"
DESCRIPTION:Humoristische Mutter-Kind-Geschichten\, eingebettet in Akustik-Soul am Donnerstag\, 24.10.2024\, 18:00 Uhr im Kiezraum Drewitz \n\n\n\nTochter und Mutter sind vielseitige Künstlerinnen und auf unterschiedlichen kreativen Pfaden unterwegs. Eine schreibt auf den Punkt\, die andere aufs Komma und deswegen nennen sie sich\, wenn sie gemeinsam agieren\, “Semikolon”. Beide lebten bis zum Ende des letzten Jahrhunderts in Frankfurt (Oder).
URL:https://stern-drewitz.de/veranstaltung/musikalische-lesung-semikolon/
LOCATION:Kiezraum Drewitz\, Konrad-Wolf-Allee 43/45\, Potsdam\, 14482
ATTACH;FMTTYPE=image/jpeg:https://stern-drewitz.de/wp-content/uploads/sites/2/2024/05/1891221_663821130330862_1432883159_n-e1755251512675.jpg
ORGANIZER;CN="oskar.DAS BEGEGNUNGSZENTRUM":MAILTO:info@oskar-drewitz.de
END:VEVENT
END:VCALENDAR