BEGIN:VCALENDAR
VERSION:2.0
PRODID:-//Stern-Drewitz - ECPv6.15.20//NONSGML v1.0//EN
CALSCALE:GREGORIAN
METHOD:PUBLISH
X-WR-CALNAME:Stern-Drewitz
X-ORIGINAL-URL:https://stern-drewitz.de
X-WR-CALDESC:Veranstaltungen für Stern-Drewitz
REFRESH-INTERVAL;VALUE=DURATION:PT1H
X-Robots-Tag:noindex
X-PUBLISHED-TTL:PT1H
BEGIN:VTIMEZONE
TZID:Europe/Berlin
BEGIN:DAYLIGHT
TZOFFSETFROM:+0100
TZOFFSETTO:+0200
TZNAME:CEST
DTSTART:20250330T010000
END:DAYLIGHT
BEGIN:STANDARD
TZOFFSETFROM:+0200
TZOFFSETTO:+0100
TZNAME:CET
DTSTART:20251026T010000
END:STANDARD
BEGIN:DAYLIGHT
TZOFFSETFROM:+0100
TZOFFSETTO:+0200
TZNAME:CEST
DTSTART:20260329T010000
END:DAYLIGHT
BEGIN:STANDARD
TZOFFSETFROM:+0200
TZOFFSETTO:+0100
TZNAME:CET
DTSTART:20261025T010000
END:STANDARD
BEGIN:DAYLIGHT
TZOFFSETFROM:+0100
TZOFFSETTO:+0200
TZNAME:CEST
DTSTART:20270328T010000
END:DAYLIGHT
BEGIN:STANDARD
TZOFFSETFROM:+0200
TZOFFSETTO:+0100
TZNAME:CET
DTSTART:20271031T010000
END:STANDARD
END:VTIMEZONE
BEGIN:VEVENT
DTSTART;TZID=Europe/Berlin:20260422T173000
DTEND;TZID=Europe/Berlin:20260422T173000
DTSTAMP:20260422T130309
CREATED:20260309T084754Z
LAST-MODIFIED:20260309T084754Z
UID:10002598-1776879000-1776879000@stern-drewitz.de
SUMMARY:Filmvorführung und Podiumsdiskussion „Wir werden nie wieder Opfer sein!“
DESCRIPTION:Menschen mit Behinderung und / oder psychischer Erkrankung gegen die extreme Rechte! Als Programmteil der Inklusionstage zeigen wir den mutmachenden Film mit dem Ziel\, motiviert und mit vielen Ideen gegen die Diskriminierung durch die extreme Rechte aus dem Kino zu kommen. Unsere Werte sind Demokratie\, Empathie und Menschlichkeit. Mit diesen möchten wir nach dem Film gern in ein Gespräch mit Ihnen und den Beteiligten kommen. \n\n\n\nMittwoch\, 22.04.2026 | 17:30 Uhr | oskar. Großer Saal
URL:https://stern-drewitz.de/veranstaltung/filmvorfuehrung-und-podiumsdiskussion-wir-werden-nie-wieder-opfer-sein/
LOCATION:oskar.DAS BEGEGNUNGSZENTRUM\, Oskar-Meßter-Straße 4-6\, Potsdam\, 14480
ORGANIZER;CN="oskar.DAS BEGEGNUNGSZENTRUM":MAILTO:info@oskar-drewitz.de
END:VEVENT
END:VCALENDAR